BEGIN:VCALENDAR
VERSION:2.0
PRODID:-//d20Tavern - ECPv6.15.20//NONSGML v1.0//EN
CALSCALE:GREGORIAN
METHOD:PUBLISH
X-WR-CALNAME:d20Tavern
X-ORIGINAL-URL:https://d20tavern.com
X-WR-CALDESC:Events for d20Tavern
REFRESH-INTERVAL;VALUE=DURATION:PT1H
X-Robots-Tag:noindex
X-PUBLISHED-TTL:PT1H
BEGIN:VTIMEZONE
TZID:America/Denver
BEGIN:DAYLIGHT
TZOFFSETFROM:-0700
TZOFFSETTO:-0600
TZNAME:MDT
DTSTART:20250309T090000
END:DAYLIGHT
BEGIN:STANDARD
TZOFFSETFROM:-0600
TZOFFSETTO:-0700
TZNAME:MST
DTSTART:20251102T080000
END:STANDARD
BEGIN:DAYLIGHT
TZOFFSETFROM:-0700
TZOFFSETTO:-0600
TZNAME:MDT
DTSTART:20260308T090000
END:DAYLIGHT
BEGIN:STANDARD
TZOFFSETFROM:-0600
TZOFFSETTO:-0700
TZNAME:MST
DTSTART:20261101T080000
END:STANDARD
BEGIN:DAYLIGHT
TZOFFSETFROM:-0700
TZOFFSETTO:-0600
TZNAME:MDT
DTSTART:20270314T090000
END:DAYLIGHT
BEGIN:STANDARD
TZOFFSETFROM:-0600
TZOFFSETTO:-0700
TZNAME:MST
DTSTART:20271107T080000
END:STANDARD
END:VTIMEZONE
BEGIN:VEVENT
DTSTART;TZID=America/Denver:20260420T180000
DTEND;TZID=America/Denver:20260420T220000
DTSTAMP:20260423T135715
CREATED:20260204T235547Z
LAST-MODIFIED:20260415T145328Z
UID:16577-1776708000-1776722400@d20tavern.com
SUMMARY:Motley Monday | Flail
DESCRIPTION:Flail is a chaotic\, frontstabbing OSR fantasy brawler where everything goes wrong – on purpose. Trip\, swing\, and fumble through a world that hits back. “Mausritter meets Dungeon Crawl Classics!” \nGet dropped into a world of low hit points\, bad odds\, moody miracles\, twitchy spells\, doomed equipment and chaotic brawls that keep escalating for no good reason. Unless you do have a reason? Do you have a reason? By nightfall\, the taverns will run on lore\, laughter and ale to decide on whether you were brilliant or just running in the wrong direction convincingly. \nWith House GM Kenneth. For ages 18 and up.
URL:https://d20tavern.com/events/motley-monday-mothership-cloud-empress/
LOCATION:d20 Tavern
CATEGORIES:Motley Monday,One Shot,RPG
ATTACH;FMTTYPE=image/jpeg:https://d20tavern.com/wp-content/uploads/2026/02/flail-website-calendar.jpg
END:VEVENT
END:VCALENDAR