BEGIN:VCALENDAR
VERSION:2.0
PRODID:-//d20Tavern - ECPv6.15.20//NONSGML v1.0//EN
CALSCALE:GREGORIAN
METHOD:PUBLISH
X-WR-CALNAME:d20Tavern
X-ORIGINAL-URL:https://d20tavern.com
X-WR-CALDESC:Events for d20Tavern
REFRESH-INTERVAL;VALUE=DURATION:PT1H
X-Robots-Tag:noindex
X-PUBLISHED-TTL:PT1H
BEGIN:VTIMEZONE
TZID:America/Denver
BEGIN:DAYLIGHT
TZOFFSETFROM:-0700
TZOFFSETTO:-0600
TZNAME:MDT
DTSTART:20250309T090000
END:DAYLIGHT
BEGIN:STANDARD
TZOFFSETFROM:-0600
TZOFFSETTO:-0700
TZNAME:MST
DTSTART:20251102T080000
END:STANDARD
BEGIN:DAYLIGHT
TZOFFSETFROM:-0700
TZOFFSETTO:-0600
TZNAME:MDT
DTSTART:20260308T090000
END:DAYLIGHT
BEGIN:STANDARD
TZOFFSETFROM:-0600
TZOFFSETTO:-0700
TZNAME:MST
DTSTART:20261101T080000
END:STANDARD
BEGIN:DAYLIGHT
TZOFFSETFROM:-0700
TZOFFSETTO:-0600
TZNAME:MDT
DTSTART:20270314T090000
END:DAYLIGHT
BEGIN:STANDARD
TZOFFSETFROM:-0600
TZOFFSETTO:-0700
TZNAME:MST
DTSTART:20271107T080000
END:STANDARD
END:VTIMEZONE
BEGIN:VEVENT
DTSTART;TZID=America/Denver:20260315T120000
DTEND;TZID=America/Denver:20260315T170000
DTSTAMP:20260423T174745
CREATED:20260227T182045Z
LAST-MODIFIED:20260227T182045Z
UID:16692-1773576000-1773594000@d20tavern.com
SUMMARY:BattleTech
DESCRIPTION:BattleTech group meets up every Sunday at noon. Come out and join a game of armored combat!
URL:https://d20tavern.com/events/battletech-16/
LOCATION:d20 Tavern
CATEGORIES:Wargames,Weekend
ATTACH;FMTTYPE=image/jpeg:https://d20tavern.com/wp-content/uploads/2025/07/battletech-calendar.jpg
END:VEVENT
BEGIN:VEVENT
DTSTART;TZID=America/Denver:20260315T180000
DTEND;TZID=America/Denver:20260315T210000
DTSTAMP:20260423T174745
CREATED:20260227T182224Z
LAST-MODIFIED:20260227T182224Z
UID:16700-1773597600-1773608400@d20tavern.com
SUMMARY:BOTC
DESCRIPTION:In the quiet village of Ravenswood Bluff\, ‌a demon walks amongst you…\nDuring a hellish thunderstorm\, on the stroke of midnight\, there echoes a bone-chilling scream. \nA Demon is on the loose\, murdering by night and disguised in human form\nby day. Some have scraps of information. Others have abilities that fight the evil or protect the innocent. But the Demon and its evil minions are spreading lies to confuse and breed suspicion. \nIn the quiet village of Ravenswood Bluff\, ‌a demon walks amongst you… \nWill the good townsfolk put the puzzle together in time to execute the true demon and save themselves? Or will evil overrun this once peaceful village? \n 
URL:https://d20tavern.com/events/botc-29/
LOCATION:d20 Tavern
CATEGORIES:BOTC,Spooky
ATTACH;FMTTYPE=image/jpeg:https://d20tavern.com/wp-content/uploads/2025/09/clocktower-calendar.jpg
END:VEVENT
BEGIN:VEVENT
DTSTART;TZID=America/Denver:20260316T140000
DTEND;TZID=America/Denver:20260316T220000
DTSTAMP:20260423T174745
CREATED:20260227T182447Z
LAST-MODIFIED:20260227T182447Z
UID:16708-1773669600-1773698400@d20tavern.com
SUMMARY:TCG Mondays
DESCRIPTION:Bring your deck\, get a discount!\nTCG Mondays! Bring your deck for some building and trading and get $2 off any 16 oz draft.
URL:https://d20tavern.com/events/tcg-mondays-11/
CATEGORIES:Community Events,Drink Special,TCG,Trading Cards
ATTACH;FMTTYPE=image/jpeg:https://d20tavern.com/wp-content/uploads/2025/01/tcg-website-calendar.jpg
END:VEVENT
BEGIN:VEVENT
DTSTART;TZID=America/Denver:20260317T173000
DTEND;TZID=America/Denver:20260317T220000
DTSTAMP:20260423T174745
CREATED:20260227T182551Z
LAST-MODIFIED:20260227T182551Z
UID:16712-1773768600-1773784800@d20tavern.com
SUMMARY:Denton Chess Club
DESCRIPTION:The Denton Chess Club meets at d20 Tavern every Tuesday at 5:30!
URL:https://d20tavern.com/events/denton-chess-club-29/
LOCATION:d20 Tavern
CATEGORIES:Community Events
ATTACH;FMTTYPE=image/jpeg:https://d20tavern.com/wp-content/uploads/2025/01/chess-club2.jpg
END:VEVENT
BEGIN:VEVENT
DTSTART;TZID=America/Denver:20260317T180000
DTEND;TZID=America/Denver:20260317T220000
DTSTAMP:20260423T174745
CREATED:20260227T182654Z
LAST-MODIFIED:20260227T182654Z
UID:16716-1773770400-1773784800@d20tavern.com
SUMMARY:Denton Board Gaming
DESCRIPTION:Denton Board Gaming Group meets at d20 Tavern every Tuesday of the month.  Come out and meet some new folks and play some board games!
URL:https://d20tavern.com/events/denton-board-gaming-9/
LOCATION:d20 Tavern
CATEGORIES:Board Games,Community Events
ATTACH;FMTTYPE=image/jpeg:https://d20tavern.com/wp-content/uploads/2025/03/denton-board-gaming-image.jpg
END:VEVENT
BEGIN:VEVENT
DTSTART;TZID=America/Denver:20260318T170000
DTEND;TZID=America/Denver:20260318T220000
DTSTAMP:20260423T174745
CREATED:20260227T180508Z
LAST-MODIFIED:20260227T180508Z
UID:16649-1773853200-1773871200@d20tavern.com
SUMMARY:College Night
DESCRIPTION:Wednesday is College Night! Bring your current student or staff college ID and get half off game pass all day.
URL:https://d20tavern.com/events/college-night-14/
CATEGORIES:College Night,Community Events
ATTACH;FMTTYPE=image/jpeg:https://d20tavern.com/wp-content/uploads/2025/01/college-night-website.jpg
END:VEVENT
BEGIN:VEVENT
DTSTART;TZID=America/Denver:20260318T180000
DTEND;TZID=America/Denver:20260318T220000
DTSTAMP:20260423T174745
CREATED:20260227T180808Z
LAST-MODIFIED:20260227T180808Z
UID:16654-1773856800-1773871200@d20tavern.com
SUMMARY:Wargame Wednesdays
DESCRIPTION:Come out every Wednesday starting at 6pm for Wargame Wednesdays. $2 off pints.
URL:https://d20tavern.com/events/wargame-wednesdays-9/
LOCATION:d20 Tavern
CATEGORIES:Board Games,Drink Special,Wargames
ATTACH;FMTTYPE=image/jpeg:https://d20tavern.com/wp-content/uploads/2025/01/wargame-wed-website-cal.jpg
END:VEVENT
BEGIN:VEVENT
DTSTART;TZID=America/Denver:20260318T190000
DTEND;TZID=America/Denver:20260318T233000
DTSTAMP:20260423T174745
CREATED:20260227T181008Z
LAST-MODIFIED:20260227T181008Z
UID:16659-1773860400-1773876600@d20tavern.com
SUMMARY:BOTC
DESCRIPTION:In the quiet village of Ravenswood Bluff\, ‌a demon walks amongst you…\nDuring a hellish thunderstorm\, on the stroke of midnight\, there echoes a bone-chilling scream. \nA Demon is on the loose\, murdering by night and disguised in human form\nby day. Some have scraps of information. Others have abilities that fight the evil or protect the innocent. But the Demon and its evil minions are spreading lies to confuse and breed suspicion. \nIn the quiet village of Ravenswood Bluff\, ‌a demon walks amongst you… \nWill the good townsfolk put the puzzle together in time to execute the true demon and save themselves? Or will evil overrun this once peaceful village? \n  \nNew Year’s Eve Blood on the Clocktower sessions all night until 1AM!\n 
URL:https://d20tavern.com/events/botc-21/
LOCATION:d20 Tavern
CATEGORIES:BOTC,Spooky
ATTACH;FMTTYPE=image/jpeg:https://d20tavern.com/wp-content/uploads/2025/09/clocktower-calendar.jpg
END:VEVENT
BEGIN:VEVENT
DTSTART;TZID=America/Denver:20260319T190000
DTEND;TZID=America/Denver:20260319T220000
DTSTAMP:20260423T174745
CREATED:20260227T181138Z
LAST-MODIFIED:20260227T181138Z
UID:16666-1773946800-1773957600@d20tavern.com
SUMMARY:Looking For Players (LFP)
DESCRIPTION:Looking For Players Thursday! Join us Thursday starting at 7pm for an open instruction table featuring a different game every week. \n 
URL:https://d20tavern.com/events/looking-for-players-lfp-7/
LOCATION:d20 Tavern
CATEGORIES:Board Games,Halloween,LFP,Looking For Players
ATTACH;FMTTYPE=image/jpeg:https://d20tavern.com/wp-content/uploads/2024/11/lfp-website-calendar-purple.jpg
END:VEVENT
BEGIN:VEVENT
DTSTART;TZID=America/Denver:20260319T190000
DTEND;TZID=America/Denver:20260319T230000
DTSTAMP:20260423T174745
CREATED:20260227T181243Z
LAST-MODIFIED:20260227T181243Z
UID:16671-1773946800-1773961200@d20tavern.com
SUMMARY:d20 AC
DESCRIPTION:Now two session times to choose from!\n7pm-11 & 7:15-11:15\n  \nJoin us every Thursday for an epic Dungeons and Dragons adventure! Whether you’re a seasoned player or new to the game\, our drop-in style campaign promises exciting quests\, thrilling battles\, and unforgettable moments. Don’t miss out on the chance to embark on this d20 adventure – book your spot now!
URL:https://d20tavern.com/events/d20-ac-13/
LOCATION:d20 Tavern
CATEGORIES:D&D,RPG,West Marches
ATTACH;FMTTYPE=image/png:https://d20tavern.com/wp-content/uploads/2025/01/d20-AC-website.png
END:VEVENT
BEGIN:VEVENT
DTSTART;TZID=America/Denver:20260320T183000
DTEND;TZID=America/Denver:20260320T235900
DTSTAMP:20260423T174745
CREATED:20260227T181701Z
LAST-MODIFIED:20260227T181701Z
UID:16679-1774031400-1774051140@d20tavern.com
SUMMARY:Denton Chess Club
DESCRIPTION:The Denton Chess Club meets at d20 Tavern every Friday at 6:30!
URL:https://d20tavern.com/events/denton-chess-club-8/
LOCATION:d20 Tavern
CATEGORIES:Community Events,Weekend
ATTACH;FMTTYPE=image/jpeg:https://d20tavern.com/wp-content/uploads/2025/01/chess-club2.jpg
END:VEVENT
BEGIN:VEVENT
DTSTART;TZID=America/Denver:20260320T190000
DTEND;TZID=America/Denver:20260320T230000
DTSTAMP:20260423T174745
CREATED:20260227T181607Z
LAST-MODIFIED:20260227T181607Z
UID:16677-1774033200-1774047600@d20tavern.com
SUMMARY:Friday Night RPG: Daggerheart
DESCRIPTION:Daggerheart is a collaborative fantasy tabletop RPG where the balance of Hope and Fear shapes your narrative. The card system uses dynamic illustrations to highlight your character’s background and capabilities\, encouraging every player to be a storyteller. Adventure with us!\nWith House GM Kenneth. May contain mature content. For ages 18 and up.
URL:https://d20tavern.com/events/friday-night-rpg-daggerheart/
LOCATION:d20 Tavern
CATEGORIES:One Shot,RPG,Weekend
ATTACH;FMTTYPE=image/jpeg:https://d20tavern.com/wp-content/uploads/2026/02/daggerheart-calendar2.jpg
END:VEVENT
BEGIN:VEVENT
DTSTART;TZID=America/Denver:20260321T130000
DTEND;TZID=America/Denver:20260321T170000
DTSTAMP:20260423T174745
CREATED:20260227T181921Z
LAST-MODIFIED:20260227T181921Z
UID:16687-1774098000-1774112400@d20tavern.com
SUMMARY:d20 AC Saturday
DESCRIPTION:Join us every Saturday for an epic Dungeons and Dragons adventure! Whether you’re a seasoned player or new to the game\, our drop-in style campaign promises exciting quests\, thrilling battles\, and unforgettable moments. Don’t miss out on the chance to embark on this d20 adventure – book your spot now!
URL:https://d20tavern.com/events/d20-ac-saturday-3/
LOCATION:d20 Tavern
CATEGORIES:D&D,RPG,Weekend,West Marches
ATTACH;FMTTYPE=image/png:https://d20tavern.com/wp-content/uploads/2025/01/d20-AC-website.png
END:VEVENT
BEGIN:VEVENT
DTSTART;TZID=America/Denver:20260322T120000
DTEND;TZID=America/Denver:20260322T170000
DTSTAMP:20260423T174745
CREATED:20260227T182017Z
LAST-MODIFIED:20260227T182017Z
UID:16691-1774180800-1774198800@d20tavern.com
SUMMARY:BattleTech
DESCRIPTION:BattleTech group meets up every Sunday at noon. Come out and join a game of armored combat!
URL:https://d20tavern.com/events/battletech-15/
LOCATION:d20 Tavern
CATEGORIES:Wargames,Weekend
ATTACH;FMTTYPE=image/jpeg:https://d20tavern.com/wp-content/uploads/2025/07/battletech-calendar.jpg
END:VEVENT
BEGIN:VEVENT
DTSTART;TZID=America/Denver:20260322T180000
DTEND;TZID=America/Denver:20260322T210000
DTSTAMP:20260423T174745
CREATED:20260227T182209Z
LAST-MODIFIED:20260227T182209Z
UID:16699-1774202400-1774213200@d20tavern.com
SUMMARY:BOTC
DESCRIPTION:In the quiet village of Ravenswood Bluff\, ‌a demon walks amongst you…\nDuring a hellish thunderstorm\, on the stroke of midnight\, there echoes a bone-chilling scream. \nA Demon is on the loose\, murdering by night and disguised in human form\nby day. Some have scraps of information. Others have abilities that fight the evil or protect the innocent. But the Demon and its evil minions are spreading lies to confuse and breed suspicion. \nIn the quiet village of Ravenswood Bluff\, ‌a demon walks amongst you… \nWill the good townsfolk put the puzzle together in time to execute the true demon and save themselves? Or will evil overrun this once peaceful village? \n 
URL:https://d20tavern.com/events/botc-28/
LOCATION:d20 Tavern
CATEGORIES:BOTC,Spooky
ATTACH;FMTTYPE=image/jpeg:https://d20tavern.com/wp-content/uploads/2025/09/clocktower-calendar.jpg
END:VEVENT
BEGIN:VEVENT
DTSTART;TZID=America/Denver:20260323T140000
DTEND;TZID=America/Denver:20260323T220000
DTSTAMP:20260423T174745
CREATED:20260227T182432Z
LAST-MODIFIED:20260227T182432Z
UID:16707-1774274400-1774303200@d20tavern.com
SUMMARY:TCG Mondays
DESCRIPTION:Bring your deck\, get a discount!\nTCG Mondays! Bring your deck for some building and trading and get $2 off any 16 oz draft.
URL:https://d20tavern.com/events/tcg-mondays-7/
CATEGORIES:Community Events,Drink Special,TCG,Trading Cards
ATTACH;FMTTYPE=image/jpeg:https://d20tavern.com/wp-content/uploads/2025/01/tcg-website-calendar.jpg
END:VEVENT
BEGIN:VEVENT
DTSTART;TZID=America/Denver:20260324T173000
DTEND;TZID=America/Denver:20260324T220000
DTSTAMP:20260423T174745
CREATED:20260227T182536Z
LAST-MODIFIED:20260227T182536Z
UID:16711-1774373400-1774389600@d20tavern.com
SUMMARY:Denton Chess Club
DESCRIPTION:The Denton Chess Club meets at d20 Tavern every Tuesday at 5:30!
URL:https://d20tavern.com/events/denton-chess-club-28/
LOCATION:d20 Tavern
CATEGORIES:Community Events
ATTACH;FMTTYPE=image/jpeg:https://d20tavern.com/wp-content/uploads/2025/01/chess-club2.jpg
END:VEVENT
BEGIN:VEVENT
DTSTART;TZID=America/Denver:20260324T180000
DTEND;TZID=America/Denver:20260324T220000
DTSTAMP:20260423T174745
CREATED:20260227T182639Z
LAST-MODIFIED:20260227T182639Z
UID:16715-1774375200-1774389600@d20tavern.com
SUMMARY:Denton Board Gaming
DESCRIPTION:Denton Board Gaming Group meets at d20 Tavern every Tuesday of the month.  Come out and meet some new folks and play some board games!
URL:https://d20tavern.com/events/denton-board-gaming-8/
LOCATION:d20 Tavern
CATEGORIES:Board Games,Community Events
ATTACH;FMTTYPE=image/jpeg:https://d20tavern.com/wp-content/uploads/2025/03/denton-board-gaming-image.jpg
END:VEVENT
BEGIN:VEVENT
DTSTART;TZID=America/Denver:20260325T170000
DTEND;TZID=America/Denver:20260325T220000
DTSTAMP:20260423T174745
CREATED:20260227T175829Z
LAST-MODIFIED:20260227T175829Z
UID:16628-1774458000-1774476000@d20tavern.com
SUMMARY:College Night
DESCRIPTION:Wednesday is College Night! Bring your current student or staff college ID and get half off game pass all day.
URL:https://d20tavern.com/events/college-night-9/
CATEGORIES:College Night,Community Events
ATTACH;FMTTYPE=image/jpeg:https://d20tavern.com/wp-content/uploads/2025/01/college-night-website.jpg
END:VEVENT
BEGIN:VEVENT
DTSTART;TZID=America/Denver:20260325T180000
DTEND;TZID=America/Denver:20260325T220000
DTSTAMP:20260423T174745
CREATED:20260227T175916Z
LAST-MODIFIED:20260227T180005Z
UID:16629-1774461600-1774476000@d20tavern.com
SUMMARY:Wargame Wednesdays
DESCRIPTION:Come out every Wednesday starting at 6pm for Wargame Wednesdays. $2 off pints.
URL:https://d20tavern.com/events/wargame-wednesdays-6/
LOCATION:d20 Tavern
CATEGORIES:Board Games,Drink Special,Wargames
ATTACH;FMTTYPE=image/jpeg:https://d20tavern.com/wp-content/uploads/2025/01/wargame-wed-website-cal.jpg
END:VEVENT
BEGIN:VEVENT
DTSTART;TZID=America/Denver:20260325T190000
DTEND;TZID=America/Denver:20260325T233000
DTSTAMP:20260423T174745
CREATED:20260227T180047Z
LAST-MODIFIED:20260227T180047Z
UID:16632-1774465200-1774481400@d20tavern.com
SUMMARY:BOTC
DESCRIPTION:In the quiet village of Ravenswood Bluff\, ‌a demon walks amongst you…\nDuring a hellish thunderstorm\, on the stroke of midnight\, there echoes a bone-chilling scream. \nA Demon is on the loose\, murdering by night and disguised in human form\nby day. Some have scraps of information. Others have abilities that fight the evil or protect the innocent. But the Demon and its evil minions are spreading lies to confuse and breed suspicion. \nIn the quiet village of Ravenswood Bluff\, ‌a demon walks amongst you… \nWill the good townsfolk put the puzzle together in time to execute the true demon and save themselves? Or will evil overrun this once peaceful village? \n  \nNew Year’s Eve Blood on the Clocktower sessions all night until 1AM!\n 
URL:https://d20tavern.com/events/botc-18/
LOCATION:d20 Tavern
CATEGORIES:BOTC,Spooky
ATTACH;FMTTYPE=image/jpeg:https://d20tavern.com/wp-content/uploads/2025/09/clocktower-calendar.jpg
END:VEVENT
BEGIN:VEVENT
DTSTART;TZID=America/Denver:20260326T190000
DTEND;TZID=America/Denver:20260326T220000
DTSTAMP:20260423T174745
CREATED:20260227T180127Z
LAST-MODIFIED:20260227T180127Z
UID:16641-1774551600-1774562400@d20tavern.com
SUMMARY:Looking For Players (LFP)
DESCRIPTION:Looking For Players Thursday! Join us Thursday starting at 7pm for an open instruction table featuring a different game every week. \n 
URL:https://d20tavern.com/events/looking-for-players-lfp-4/
LOCATION:d20 Tavern
CATEGORIES:Board Games,Halloween,LFP,Looking For Players
ATTACH;FMTTYPE=image/jpeg:https://d20tavern.com/wp-content/uploads/2024/11/lfp-website-calendar-purple.jpg
END:VEVENT
BEGIN:VEVENT
DTSTART;TZID=America/Denver:20260326T190000
DTEND;TZID=America/Denver:20260326T230000
DTSTAMP:20260423T174745
CREATED:20260227T180149Z
LAST-MODIFIED:20260227T180149Z
UID:16642-1774551600-1774566000@d20tavern.com
SUMMARY:d20 AC
DESCRIPTION:Now two session times to choose from!\n7pm-11 & 7:15-11:15\n  \nJoin us every Thursday for an epic Dungeons and Dragons adventure! Whether you’re a seasoned player or new to the game\, our drop-in style campaign promises exciting quests\, thrilling battles\, and unforgettable moments. Don’t miss out on the chance to embark on this d20 adventure – book your spot now!
URL:https://d20tavern.com/events/d20-ac-12/
LOCATION:d20 Tavern
CATEGORIES:D&D,RPG,West Marches
ATTACH;FMTTYPE=image/png:https://d20tavern.com/wp-content/uploads/2025/01/d20-AC-website.png
END:VEVENT
BEGIN:VEVENT
DTSTART;TZID=America/Denver:20260327T183000
DTEND;TZID=America/Denver:20260327T235900
DTSTAMP:20260423T174745
CREATED:20260227T174944Z
LAST-MODIFIED:20260227T174944Z
UID:16614-1774636200-1774655940@d20tavern.com
SUMMARY:Denton Chess Club
DESCRIPTION:The Denton Chess Club meets at d20 Tavern every Friday at 6:30!
URL:https://d20tavern.com/events/denton-chess-club-6/
LOCATION:d20 Tavern
CATEGORIES:Community Events,Weekend
ATTACH;FMTTYPE=image/jpeg:https://d20tavern.com/wp-content/uploads/2025/01/chess-club2.jpg
END:VEVENT
BEGIN:VEVENT
DTSTART;TZID=America/Denver:20260328T130000
DTEND;TZID=America/Denver:20260328T170000
DTSTAMP:20260423T174745
CREATED:20260227T180238Z
LAST-MODIFIED:20260227T180238Z
UID:16645-1774702800-1774717200@d20tavern.com
SUMMARY:d20 AC Saturday
DESCRIPTION:Join us every Saturday for an epic Dungeons and Dragons adventure! Whether you’re a seasoned player or new to the game\, our drop-in style campaign promises exciting quests\, thrilling battles\, and unforgettable moments. Don’t miss out on the chance to embark on this d20 adventure – book your spot now!
URL:https://d20tavern.com/events/d20-ac-saturday-2/
LOCATION:d20 Tavern
CATEGORIES:D&D,RPG,Weekend,West Marches
ATTACH;FMTTYPE=image/png:https://d20tavern.com/wp-content/uploads/2025/01/d20-AC-website.png
END:VEVENT
BEGIN:VEVENT
DTSTART;TZID=America/Denver:20260329T120000
DTEND;TZID=America/Denver:20260329T170000
DTSTAMP:20260423T174745
CREATED:20260227T174847Z
LAST-MODIFIED:20260227T174847Z
UID:16610-1774785600-1774803600@d20tavern.com
SUMMARY:BattleTech
DESCRIPTION:BattleTech group meets up every Sunday at noon. Come out and join a game of armored combat!
URL:https://d20tavern.com/events/battletech-13/
LOCATION:d20 Tavern
CATEGORIES:Wargames,Weekend
ATTACH;FMTTYPE=image/jpeg:https://d20tavern.com/wp-content/uploads/2025/07/battletech-calendar.jpg
END:VEVENT
BEGIN:VEVENT
DTSTART;TZID=America/Denver:20260329T180000
DTEND;TZID=America/Denver:20260329T210000
DTSTAMP:20260423T174745
CREATED:20260227T174904Z
LAST-MODIFIED:20260227T174904Z
UID:16611-1774807200-1774818000@d20tavern.com
SUMMARY:BOTC
DESCRIPTION:In the quiet village of Ravenswood Bluff\, ‌a demon walks amongst you…\nDuring a hellish thunderstorm\, on the stroke of midnight\, there echoes a bone-chilling scream. \nA Demon is on the loose\, murdering by night and disguised in human form\nby day. Some have scraps of information. Others have abilities that fight the evil or protect the innocent. But the Demon and its evil minions are spreading lies to confuse and breed suspicion. \nIn the quiet village of Ravenswood Bluff\, ‌a demon walks amongst you… \nWill the good townsfolk put the puzzle together in time to execute the true demon and save themselves? Or will evil overrun this once peaceful village? \n 
URL:https://d20tavern.com/events/botc-17/
LOCATION:d20 Tavern
CATEGORIES:BOTC,Spooky
ATTACH;FMTTYPE=image/jpeg:https://d20tavern.com/wp-content/uploads/2025/09/clocktower-calendar.jpg
END:VEVENT
BEGIN:VEVENT
DTSTART;TZID=America/Denver:20260330T140000
DTEND;TZID=America/Denver:20260330T220000
DTSTAMP:20260423T174745
CREATED:20260227T175218Z
LAST-MODIFIED:20260227T175218Z
UID:16623-1774879200-1774908000@d20tavern.com
SUMMARY:TCG Mondays
DESCRIPTION:Bring your deck\, get a discount!\nTCG Mondays! Bring your deck for some building and trading and get $2 off any 16 oz draft.
URL:https://d20tavern.com/events/tcg-mondays-6/
CATEGORIES:Community Events,Drink Special,TCG,Trading Cards
ATTACH;FMTTYPE=image/jpeg:https://d20tavern.com/wp-content/uploads/2025/01/tcg-website-calendar.jpg
END:VEVENT
BEGIN:VEVENT
DTSTART;TZID=America/Denver:20260331T173000
DTEND;TZID=America/Denver:20260331T220000
DTSTAMP:20260423T174745
CREATED:20260227T175808Z
LAST-MODIFIED:20260227T175808Z
UID:16627-1774978200-1774994400@d20tavern.com
SUMMARY:Denton Chess Club
DESCRIPTION:The Denton Chess Club meets at d20 Tavern every Tuesday at 5:30!
URL:https://d20tavern.com/events/denton-chess-club-7/
LOCATION:d20 Tavern
CATEGORIES:Community Events
ATTACH;FMTTYPE=image/jpeg:https://d20tavern.com/wp-content/uploads/2025/01/chess-club2.jpg
END:VEVENT
BEGIN:VEVENT
DTSTART;TZID=America/Denver:20260331T180000
DTEND;TZID=America/Denver:20260331T220000
DTSTAMP:20260423T174745
CREATED:20260227T175853Z
LAST-MODIFIED:20260227T175853Z
UID:16637-1774980000-1774994400@d20tavern.com
SUMMARY:Denton Board Gaming
DESCRIPTION:Denton Board Gaming Group meets at d20 Tavern every Tuesday of the month.  Come out and meet some new folks and play some board games!
URL:https://d20tavern.com/events/denton-board-gaming-5/
LOCATION:d20 Tavern
CATEGORIES:Board Games,Community Events
ATTACH;FMTTYPE=image/jpeg:https://d20tavern.com/wp-content/uploads/2025/03/denton-board-gaming-image.jpg
END:VEVENT
END:VCALENDAR