BEGIN:VCALENDAR
VERSION:2.0
PRODID:-//d20Tavern - ECPv6.15.20//NONSGML v1.0//EN
CALSCALE:GREGORIAN
METHOD:PUBLISH
X-WR-CALNAME:d20Tavern
X-ORIGINAL-URL:https://d20tavern.com
X-WR-CALDESC:Events for d20Tavern
REFRESH-INTERVAL;VALUE=DURATION:PT1H
X-Robots-Tag:noindex
X-PUBLISHED-TTL:PT1H
BEGIN:VTIMEZONE
TZID:America/Denver
BEGIN:DAYLIGHT
TZOFFSETFROM:-0700
TZOFFSETTO:-0600
TZNAME:MDT
DTSTART:20250309T090000
END:DAYLIGHT
BEGIN:STANDARD
TZOFFSETFROM:-0600
TZOFFSETTO:-0700
TZNAME:MST
DTSTART:20251102T080000
END:STANDARD
BEGIN:DAYLIGHT
TZOFFSETFROM:-0700
TZOFFSETTO:-0600
TZNAME:MDT
DTSTART:20260308T090000
END:DAYLIGHT
BEGIN:STANDARD
TZOFFSETFROM:-0600
TZOFFSETTO:-0700
TZNAME:MST
DTSTART:20261101T080000
END:STANDARD
BEGIN:DAYLIGHT
TZOFFSETFROM:-0700
TZOFFSETTO:-0600
TZNAME:MDT
DTSTART:20270314T090000
END:DAYLIGHT
BEGIN:STANDARD
TZOFFSETFROM:-0600
TZOFFSETTO:-0700
TZNAME:MST
DTSTART:20271107T080000
END:STANDARD
END:VTIMEZONE
BEGIN:VEVENT
DTSTART;TZID=America/Denver:20260427T140000
DTEND;TZID=America/Denver:20260427T220000
DTSTAMP:20260423T121834
CREATED:20260329T233237Z
LAST-MODIFIED:20260329T233237Z
UID:16797-1777298400-1777327200@d20tavern.com
SUMMARY:TCG Mondays
DESCRIPTION:Bring your deck\, get a discount!\nTCG Mondays! Bring your deck for some building and trading and get $2 off any 16 oz draft.
URL:https://d20tavern.com/events/tcg-mondays-17/
CATEGORIES:Community Events,Drink Special,TCG,Trading Cards
ATTACH;FMTTYPE=image/jpeg:https://d20tavern.com/wp-content/uploads/2025/01/tcg-website-calendar.jpg
END:VEVENT
BEGIN:VEVENT
DTSTART;TZID=America/Denver:20260428T173000
DTEND;TZID=America/Denver:20260428T220000
DTSTAMP:20260423T121834
CREATED:20260329T233803Z
LAST-MODIFIED:20260329T233803Z
UID:16808-1777397400-1777413600@d20tavern.com
SUMMARY:Denton Chess Club
DESCRIPTION:The Denton Chess Club meets at d20 Tavern every Tuesday at 5:30!
URL:https://d20tavern.com/events/denton-chess-club-3/
LOCATION:d20 Tavern
CATEGORIES:Community Events
ATTACH;FMTTYPE=image/jpeg:https://d20tavern.com/wp-content/uploads/2025/01/chess-club2.jpg
END:VEVENT
BEGIN:VEVENT
DTSTART;TZID=America/Denver:20260428T180000
DTEND;TZID=America/Denver:20260428T220000
DTSTAMP:20260423T121834
CREATED:20260329T233743Z
LAST-MODIFIED:20260329T233743Z
UID:16807-1777399200-1777413600@d20tavern.com
SUMMARY:Denton Board Gaming
DESCRIPTION:Denton Board Gaming Group meets at d20 Tavern every Tuesday of the month.  Come out and meet some new folks and play some board games!
URL:https://d20tavern.com/events/denton-board-gaming-12/
LOCATION:d20 Tavern
CATEGORIES:Board Games,Community Events
ATTACH;FMTTYPE=image/jpeg:https://d20tavern.com/wp-content/uploads/2025/03/denton-board-gaming-image.jpg
END:VEVENT
BEGIN:VEVENT
DTSTART;TZID=America/Denver:20260429T170000
DTEND;TZID=America/Denver:20260429T220000
DTSTAMP:20260423T121834
CREATED:20260329T234307Z
LAST-MODIFIED:20260329T234307Z
UID:16824-1777482000-1777500000@d20tavern.com
SUMMARY:College Night
DESCRIPTION:Wednesday is College Night! Bring your current student or staff college ID and get half off game pass all day.
URL:https://d20tavern.com/events/college-night-4/
CATEGORIES:College Night,Community Events
ATTACH;FMTTYPE=image/jpeg:https://d20tavern.com/wp-content/uploads/2025/01/college-night-website.jpg
END:VEVENT
BEGIN:VEVENT
DTSTART;TZID=America/Denver:20260429T180000
DTEND;TZID=America/Denver:20260429T220000
DTSTAMP:20260423T121834
CREATED:20260329T234248Z
LAST-MODIFIED:20260329T234248Z
UID:16823-1777485600-1777500000@d20tavern.com
SUMMARY:Wargame Wednesdays
DESCRIPTION:Come out every Wednesday starting at 6pm for Wargame Wednesdays. $2 off pints.
URL:https://d20tavern.com/events/wargame-wednesdays-13/
LOCATION:d20 Tavern
CATEGORIES:Board Games,Drink Special,Wargames
ATTACH;FMTTYPE=image/jpeg:https://d20tavern.com/wp-content/uploads/2025/01/wargame-wed-website-cal.jpg
END:VEVENT
BEGIN:VEVENT
DTSTART;TZID=America/Denver:20260429T190000
DTEND;TZID=America/Denver:20260429T233000
DTSTAMP:20260423T121834
CREATED:20260329T234227Z
LAST-MODIFIED:20260329T234227Z
UID:16825-1777489200-1777505400@d20tavern.com
SUMMARY:BOTC
DESCRIPTION:In the quiet village of Ravenswood Bluff\, ‌a demon walks amongst you…\nDuring a hellish thunderstorm\, on the stroke of midnight\, there echoes a bone-chilling scream. \nA Demon is on the loose\, murdering by night and disguised in human form\nby day. Some have scraps of information. Others have abilities that fight the evil or protect the innocent. But the Demon and its evil minions are spreading lies to confuse and breed suspicion. \nIn the quiet village of Ravenswood Bluff\, ‌a demon walks amongst you… \nWill the good townsfolk put the puzzle together in time to execute the true demon and save themselves? Or will evil overrun this once peaceful village? \n  \n\n 
URL:https://d20tavern.com/events/botc-27/
LOCATION:d20 Tavern
CATEGORIES:BOTC,Spooky
ATTACH;FMTTYPE=image/jpeg:https://d20tavern.com/wp-content/uploads/2025/09/clocktower-calendar.jpg
END:VEVENT
BEGIN:VEVENT
DTSTART;TZID=America/Denver:20260430T190000
DTEND;TZID=America/Denver:20260430T220000
DTSTAMP:20260423T121834
CREATED:20260329T234727Z
LAST-MODIFIED:20260329T234727Z
UID:16847-1777575600-1777586400@d20tavern.com
SUMMARY:Looking For Players (LFP)
DESCRIPTION:Looking For Players Thursday! Join us Thursday starting at 7pm for an open instruction table featuring a different game every week. \n 
URL:https://d20tavern.com/events/looking-for-players-lfp-15/
LOCATION:d20 Tavern
CATEGORIES:Board Games,Halloween,LFP,Looking For Players
ATTACH;FMTTYPE=image/jpeg:https://d20tavern.com/wp-content/uploads/2024/11/lfp-website-calendar-purple.jpg
END:VEVENT
BEGIN:VEVENT
DTSTART;TZID=America/Denver:20260430T190000
DTEND;TZID=America/Denver:20260430T230000
DTSTAMP:20260423T121834
CREATED:20260329T234749Z
LAST-MODIFIED:20260329T234749Z
UID:16848-1777575600-1777590000@d20tavern.com
SUMMARY:d20 AC
DESCRIPTION:Now two session times to choose from!\n7pm-11 & 7:15-11:15\n  \nJoin us every Thursday for an epic Dungeons and Dragons adventure! Whether you’re a seasoned player or new to the game\, our drop-in style campaign promises exciting quests\, thrilling battles\, and unforgettable moments. Don’t miss out on the chance to embark on this d20 adventure – book your spot now!
URL:https://d20tavern.com/events/d20-ac-6/
LOCATION:d20 Tavern
CATEGORIES:D&D,RPG,West Marches
ATTACH;FMTTYPE=image/png:https://d20tavern.com/wp-content/uploads/2025/01/d20-AC-website.png
END:VEVENT
BEGIN:VEVENT
DTSTART;TZID=America/Denver:20260501T183000
DTEND;TZID=America/Denver:20260501T235900
DTSTAMP:20260423T121834
CREATED:20260329T235157Z
LAST-MODIFIED:20260329T235157Z
UID:16868-1777660200-1777679940@d20tavern.com
SUMMARY:Denton Chess Club
DESCRIPTION:The Denton Chess Club meets at d20 Tavern every Friday at 6:30!
URL:https://d20tavern.com/events/denton-chess-club-34/
LOCATION:d20 Tavern
CATEGORIES:Community Events,Weekend
ATTACH;FMTTYPE=image/jpeg:https://d20tavern.com/wp-content/uploads/2025/01/chess-club2.jpg
END:VEVENT
BEGIN:VEVENT
DTSTART;TZID=America/Denver:20260502T130000
DTEND;TZID=America/Denver:20260502T170000
DTSTAMP:20260423T121834
CREATED:20260329T235840Z
LAST-MODIFIED:20260329T235840Z
UID:16883-1777726800-1777741200@d20tavern.com
SUMMARY:d20 AC Saturday
DESCRIPTION:Join us every Saturday for an epic Dungeons and Dragons adventure! Whether you’re a seasoned player or new to the game\, our drop-in style campaign promises exciting quests\, thrilling battles\, and unforgettable moments. Don’t miss out on the chance to embark on this d20 adventure – book your spot now!
URL:https://d20tavern.com/events/d20-ac-saturday-6/
LOCATION:d20 Tavern
CATEGORIES:D&D,RPG,Weekend,West Marches
ATTACH;FMTTYPE=image/png:https://d20tavern.com/wp-content/uploads/2025/01/d20-AC-website.png
END:VEVENT
BEGIN:VEVENT
DTSTART;TZID=America/Denver:20260508T183000
DTEND;TZID=America/Denver:20260508T235900
DTSTAMP:20260423T121834
CREATED:20260329T235237Z
LAST-MODIFIED:20260329T235237Z
UID:16870-1778265000-1778284740@d20tavern.com
SUMMARY:Denton Chess Club
DESCRIPTION:The Denton Chess Club meets at d20 Tavern every Friday at 6:30!
URL:https://d20tavern.com/events/denton-chess-club-37/
LOCATION:d20 Tavern
CATEGORIES:Community Events,Weekend
ATTACH;FMTTYPE=image/jpeg:https://d20tavern.com/wp-content/uploads/2025/01/chess-club2.jpg
END:VEVENT
END:VCALENDAR