BEGIN:VCALENDAR
VERSION:2.0
PRODID:-//d20Tavern - ECPv6.15.20//NONSGML v1.0//EN
CALSCALE:GREGORIAN
METHOD:PUBLISH
X-WR-CALNAME:d20Tavern
X-ORIGINAL-URL:https://d20tavern.com
X-WR-CALDESC:Events for d20Tavern
REFRESH-INTERVAL;VALUE=DURATION:PT1H
X-Robots-Tag:noindex
X-PUBLISHED-TTL:PT1H
BEGIN:VTIMEZONE
TZID:America/Denver
BEGIN:DAYLIGHT
TZOFFSETFROM:-0700
TZOFFSETTO:-0600
TZNAME:MDT
DTSTART:20250309T090000
END:DAYLIGHT
BEGIN:STANDARD
TZOFFSETFROM:-0600
TZOFFSETTO:-0700
TZNAME:MST
DTSTART:20251102T080000
END:STANDARD
BEGIN:DAYLIGHT
TZOFFSETFROM:-0700
TZOFFSETTO:-0600
TZNAME:MDT
DTSTART:20260308T090000
END:DAYLIGHT
BEGIN:STANDARD
TZOFFSETFROM:-0600
TZOFFSETTO:-0700
TZNAME:MST
DTSTART:20261101T080000
END:STANDARD
BEGIN:DAYLIGHT
TZOFFSETFROM:-0700
TZOFFSETTO:-0600
TZNAME:MDT
DTSTART:20270314T090000
END:DAYLIGHT
BEGIN:STANDARD
TZOFFSETFROM:-0600
TZOFFSETTO:-0700
TZNAME:MST
DTSTART:20271107T080000
END:STANDARD
END:VTIMEZONE
BEGIN:VEVENT
DTSTART;TZID=America/Denver:20260327T183000
DTEND;TZID=America/Denver:20260327T235900
DTSTAMP:20260423T141252
CREATED:20260227T174944Z
LAST-MODIFIED:20260227T174944Z
UID:16614-1774636200-1774655940@d20tavern.com
SUMMARY:Denton Chess Club
DESCRIPTION:The Denton Chess Club meets at d20 Tavern every Friday at 6:30!
URL:https://d20tavern.com/events/denton-chess-club-6/
LOCATION:d20 Tavern
CATEGORIES:Community Events,Weekend
ATTACH;FMTTYPE=image/jpeg:https://d20tavern.com/wp-content/uploads/2025/01/chess-club2.jpg
END:VEVENT
BEGIN:VEVENT
DTSTART;TZID=America/Denver:20260328T130000
DTEND;TZID=America/Denver:20260328T170000
DTSTAMP:20260423T141252
CREATED:20260227T180238Z
LAST-MODIFIED:20260227T180238Z
UID:16645-1774702800-1774717200@d20tavern.com
SUMMARY:d20 AC Saturday
DESCRIPTION:Join us every Saturday for an epic Dungeons and Dragons adventure! Whether you’re a seasoned player or new to the game\, our drop-in style campaign promises exciting quests\, thrilling battles\, and unforgettable moments. Don’t miss out on the chance to embark on this d20 adventure – book your spot now!
URL:https://d20tavern.com/events/d20-ac-saturday-2/
LOCATION:d20 Tavern
CATEGORIES:D&D,RPG,Weekend,West Marches
ATTACH;FMTTYPE=image/png:https://d20tavern.com/wp-content/uploads/2025/01/d20-AC-website.png
END:VEVENT
BEGIN:VEVENT
DTSTART;TZID=America/Denver:20260329T120000
DTEND;TZID=America/Denver:20260329T170000
DTSTAMP:20260423T141252
CREATED:20260227T174847Z
LAST-MODIFIED:20260227T174847Z
UID:16610-1774785600-1774803600@d20tavern.com
SUMMARY:BattleTech
DESCRIPTION:BattleTech group meets up every Sunday at noon. Come out and join a game of armored combat!
URL:https://d20tavern.com/events/battletech-13/
LOCATION:d20 Tavern
CATEGORIES:Wargames,Weekend
ATTACH;FMTTYPE=image/jpeg:https://d20tavern.com/wp-content/uploads/2025/07/battletech-calendar.jpg
END:VEVENT
BEGIN:VEVENT
DTSTART;TZID=America/Denver:20260329T180000
DTEND;TZID=America/Denver:20260329T210000
DTSTAMP:20260423T141252
CREATED:20260227T174904Z
LAST-MODIFIED:20260227T174904Z
UID:16611-1774807200-1774818000@d20tavern.com
SUMMARY:BOTC
DESCRIPTION:In the quiet village of Ravenswood Bluff\, ‌a demon walks amongst you…\nDuring a hellish thunderstorm\, on the stroke of midnight\, there echoes a bone-chilling scream. \nA Demon is on the loose\, murdering by night and disguised in human form\nby day. Some have scraps of information. Others have abilities that fight the evil or protect the innocent. But the Demon and its evil minions are spreading lies to confuse and breed suspicion. \nIn the quiet village of Ravenswood Bluff\, ‌a demon walks amongst you… \nWill the good townsfolk put the puzzle together in time to execute the true demon and save themselves? Or will evil overrun this once peaceful village? \n 
URL:https://d20tavern.com/events/botc-17/
LOCATION:d20 Tavern
CATEGORIES:BOTC,Spooky
ATTACH;FMTTYPE=image/jpeg:https://d20tavern.com/wp-content/uploads/2025/09/clocktower-calendar.jpg
END:VEVENT
BEGIN:VEVENT
DTSTART;TZID=America/Denver:20260330T140000
DTEND;TZID=America/Denver:20260330T220000
DTSTAMP:20260423T141252
CREATED:20260227T175218Z
LAST-MODIFIED:20260227T175218Z
UID:16623-1774879200-1774908000@d20tavern.com
SUMMARY:TCG Mondays
DESCRIPTION:Bring your deck\, get a discount!\nTCG Mondays! Bring your deck for some building and trading and get $2 off any 16 oz draft.
URL:https://d20tavern.com/events/tcg-mondays-6/
CATEGORIES:Community Events,Drink Special,TCG,Trading Cards
ATTACH;FMTTYPE=image/jpeg:https://d20tavern.com/wp-content/uploads/2025/01/tcg-website-calendar.jpg
END:VEVENT
BEGIN:VEVENT
DTSTART;TZID=America/Denver:20260331T173000
DTEND;TZID=America/Denver:20260331T220000
DTSTAMP:20260423T141252
CREATED:20260227T175808Z
LAST-MODIFIED:20260227T175808Z
UID:16627-1774978200-1774994400@d20tavern.com
SUMMARY:Denton Chess Club
DESCRIPTION:The Denton Chess Club meets at d20 Tavern every Tuesday at 5:30!
URL:https://d20tavern.com/events/denton-chess-club-7/
LOCATION:d20 Tavern
CATEGORIES:Community Events
ATTACH;FMTTYPE=image/jpeg:https://d20tavern.com/wp-content/uploads/2025/01/chess-club2.jpg
END:VEVENT
BEGIN:VEVENT
DTSTART;TZID=America/Denver:20260331T180000
DTEND;TZID=America/Denver:20260331T220000
DTSTAMP:20260423T141252
CREATED:20260227T175853Z
LAST-MODIFIED:20260227T175853Z
UID:16637-1774980000-1774994400@d20tavern.com
SUMMARY:Denton Board Gaming
DESCRIPTION:Denton Board Gaming Group meets at d20 Tavern every Tuesday of the month.  Come out and meet some new folks and play some board games!
URL:https://d20tavern.com/events/denton-board-gaming-5/
LOCATION:d20 Tavern
CATEGORIES:Board Games,Community Events
ATTACH;FMTTYPE=image/jpeg:https://d20tavern.com/wp-content/uploads/2025/03/denton-board-gaming-image.jpg
END:VEVENT
BEGIN:VEVENT
DTSTART;TZID=America/Denver:20260401T170000
DTEND;TZID=America/Denver:20260401T220000
DTSTAMP:20260423T141252
CREATED:20260329T231025Z
LAST-MODIFIED:20260329T231025Z
UID:16756-1775062800-1775080800@d20tavern.com
SUMMARY:College Night
DESCRIPTION:Wednesday is College Night! Bring your current student or staff college ID and get half off game pass all day.
URL:https://d20tavern.com/events/college-night-3/
CATEGORIES:College Night,Community Events
ATTACH;FMTTYPE=image/jpeg:https://d20tavern.com/wp-content/uploads/2025/01/college-night-website.jpg
END:VEVENT
BEGIN:VEVENT
DTSTART;TZID=America/Denver:20260401T180000
DTEND;TZID=America/Denver:20260401T220000
DTSTAMP:20260423T141252
CREATED:20260329T230936Z
LAST-MODIFIED:20260329T230936Z
UID:16757-1775066400-1775080800@d20tavern.com
SUMMARY:Wargame Wednesdays
DESCRIPTION:Come out every Wednesday starting at 6pm for Wargame Wednesdays. $2 off pints.
URL:https://d20tavern.com/events/wargame-wednesdays-11/
LOCATION:d20 Tavern
CATEGORIES:Board Games,Drink Special,Wargames
ATTACH;FMTTYPE=image/jpeg:https://d20tavern.com/wp-content/uploads/2025/01/wargame-wed-website-cal.jpg
END:VEVENT
BEGIN:VEVENT
DTSTART;TZID=America/Denver:20260401T190000
DTEND;TZID=America/Denver:20260401T233000
DTSTAMP:20260423T141252
CREATED:20260329T230957Z
LAST-MODIFIED:20260329T231006Z
UID:16758-1775070000-1775086200@d20tavern.com
SUMMARY:BOTC
DESCRIPTION:In the quiet village of Ravenswood Bluff\, ‌a demon walks amongst you…\nDuring a hellish thunderstorm\, on the stroke of midnight\, there echoes a bone-chilling scream. \nA Demon is on the loose\, murdering by night and disguised in human form\nby day. Some have scraps of information. Others have abilities that fight the evil or protect the innocent. But the Demon and its evil minions are spreading lies to confuse and breed suspicion. \nIn the quiet village of Ravenswood Bluff\, ‌a demon walks amongst you… \nWill the good townsfolk put the puzzle together in time to execute the true demon and save themselves? Or will evil overrun this once peaceful village? \n  \n\n 
URL:https://d20tavern.com/events/botc-4/
LOCATION:d20 Tavern
CATEGORIES:BOTC,Spooky
ATTACH;FMTTYPE=image/jpeg:https://d20tavern.com/wp-content/uploads/2025/09/clocktower-calendar.jpg
END:VEVENT
BEGIN:VEVENT
DTSTART;TZID=America/Denver:20260402T190000
DTEND;TZID=America/Denver:20260402T220000
DTSTAMP:20260423T141252
CREATED:20260329T231125Z
LAST-MODIFIED:20260329T231125Z
UID:16763-1775156400-1775167200@d20tavern.com
SUMMARY:Looking For Players (LFP)
DESCRIPTION:Looking For Players Thursday! Join us Thursday starting at 7pm for an open instruction table featuring a different game every week. \n 
URL:https://d20tavern.com/events/looking-for-players-lfp-14/
LOCATION:d20 Tavern
CATEGORIES:Board Games,Halloween,LFP,Looking For Players
ATTACH;FMTTYPE=image/jpeg:https://d20tavern.com/wp-content/uploads/2024/11/lfp-website-calendar-purple.jpg
END:VEVENT
BEGIN:VEVENT
DTSTART;TZID=America/Denver:20260402T190000
DTEND;TZID=America/Denver:20260402T230000
DTSTAMP:20260423T141252
CREATED:20260329T231108Z
LAST-MODIFIED:20260329T231108Z
UID:16764-1775156400-1775170800@d20tavern.com
SUMMARY:d20 AC
DESCRIPTION:Now two session times to choose from!\n7pm-11 & 7:15-11:15\n  \nJoin us every Thursday for an epic Dungeons and Dragons adventure! Whether you’re a seasoned player or new to the game\, our drop-in style campaign promises exciting quests\, thrilling battles\, and unforgettable moments. Don’t miss out on the chance to embark on this d20 adventure – book your spot now!
URL:https://d20tavern.com/events/d20-ac-4/
LOCATION:d20 Tavern
CATEGORIES:D&D,RPG,West Marches
ATTACH;FMTTYPE=image/png:https://d20tavern.com/wp-content/uploads/2025/01/d20-AC-website.png
END:VEVENT
BEGIN:VEVENT
DTSTART;TZID=America/Denver:20260403T183000
DTEND;TZID=America/Denver:20260403T235900
DTSTAMP:20260423T141252
CREATED:20260329T231219Z
LAST-MODIFIED:20260329T231219Z
UID:16767-1775241000-1775260740@d20tavern.com
SUMMARY:Denton Chess Club
DESCRIPTION:The Denton Chess Club meets at d20 Tavern every Friday at 6:30!
URL:https://d20tavern.com/events/denton-chess-club-2/
LOCATION:d20 Tavern
CATEGORIES:Community Events,Weekend
ATTACH;FMTTYPE=image/jpeg:https://d20tavern.com/wp-content/uploads/2025/01/chess-club2.jpg
END:VEVENT
BEGIN:VEVENT
DTSTART;TZID=America/Denver:20260404T120000
DTEND;TZID=America/Denver:20260404T170000
DTSTAMP:20260423T141252
CREATED:20260329T232311Z
LAST-MODIFIED:20260402T221633Z
UID:16771-1775304000-1775322000@d20tavern.com
SUMMARY:Denton Mini Masters Putt Putt Extravaganza
DESCRIPTION:Join us for the Denton Putt-Putt Extravaganza – a FREE family friendly mini golf tournament in beautiful downtown Denton on Saturday\, April 4th from noon-5PM! Enjoy food and drinks around downtown while you play!
URL:https://d20tavern.com/events/16771/
CATEGORIES:Bar Crawl,Community Events,Weekend
ATTACH;FMTTYPE=image/jpeg:https://d20tavern.com/wp-content/uploads/2026/03/mini-masters-2026.jpg
END:VEVENT
BEGIN:VEVENT
DTSTART;TZID=America/Denver:20260405T120000
DTEND;TZID=America/Denver:20260405T170000
DTSTAMP:20260423T141252
CREATED:20260329T232737Z
LAST-MODIFIED:20260329T232737Z
UID:16780-1775390400-1775408400@d20tavern.com
SUMMARY:BattleTech
DESCRIPTION:BattleTech group meets up every Sunday at noon. Come out and join a game of armored combat!
URL:https://d20tavern.com/events/battletech/
LOCATION:d20 Tavern
CATEGORIES:Wargames,Weekend
ATTACH;FMTTYPE=image/jpeg:https://d20tavern.com/wp-content/uploads/2025/07/battletech-calendar.jpg
END:VEVENT
BEGIN:VEVENT
DTSTART;TZID=America/Denver:20260405T180000
DTEND;TZID=America/Denver:20260405T210000
DTSTAMP:20260423T141252
CREATED:20260329T232953Z
LAST-MODIFIED:20260329T232953Z
UID:16788-1775412000-1775422800@d20tavern.com
SUMMARY:BOTC
DESCRIPTION:In the quiet village of Ravenswood Bluff\, ‌a demon walks amongst you…\nDuring a hellish thunderstorm\, on the stroke of midnight\, there echoes a bone-chilling scream. \nA Demon is on the loose\, murdering by night and disguised in human form\nby day. Some have scraps of information. Others have abilities that fight the evil or protect the innocent. But the Demon and its evil minions are spreading lies to confuse and breed suspicion. \nIn the quiet village of Ravenswood Bluff\, ‌a demon walks amongst you… \nWill the good townsfolk put the puzzle together in time to execute the true demon and save themselves? Or will evil overrun this once peaceful village? \n 
URL:https://d20tavern.com/events/botc-5/
LOCATION:d20 Tavern
CATEGORIES:BOTC,Spooky
ATTACH;FMTTYPE=image/jpeg:https://d20tavern.com/wp-content/uploads/2025/09/clocktower-calendar.jpg
END:VEVENT
BEGIN:VEVENT
DTSTART;TZID=America/Denver:20260406T140000
DTEND;TZID=America/Denver:20260406T220000
DTSTAMP:20260423T141252
CREATED:20260329T233137Z
LAST-MODIFIED:20260329T233137Z
UID:16793-1775484000-1775512800@d20tavern.com
SUMMARY:TCG Mondays
DESCRIPTION:Bring your deck\, get a discount!\nTCG Mondays! Bring your deck for some building and trading and get $2 off any 16 oz draft.
URL:https://d20tavern.com/events/tcg-mondays-5/
CATEGORIES:Community Events,Drink Special,TCG,Trading Cards
ATTACH;FMTTYPE=image/jpeg:https://d20tavern.com/wp-content/uploads/2025/01/tcg-website-calendar.jpg
END:VEVENT
BEGIN:VEVENT
DTSTART;TZID=America/Denver:20260407T173000
DTEND;TZID=America/Denver:20260407T220000
DTSTAMP:20260423T141252
CREATED:20260329T234024Z
LAST-MODIFIED:20260329T234024Z
UID:16816-1775583000-1775599200@d20tavern.com
SUMMARY:Denton Chess Club
DESCRIPTION:The Denton Chess Club meets at d20 Tavern every Tuesday at 5:30!
URL:https://d20tavern.com/events/denton-chess-club-32/
LOCATION:d20 Tavern
CATEGORIES:Community Events
ATTACH;FMTTYPE=image/jpeg:https://d20tavern.com/wp-content/uploads/2025/01/chess-club2.jpg
END:VEVENT
BEGIN:VEVENT
DTSTART;TZID=America/Denver:20260407T180000
DTEND;TZID=America/Denver:20260407T220000
DTSTAMP:20260423T141252
CREATED:20260329T233931Z
LAST-MODIFIED:20260329T233931Z
UID:16812-1775584800-1775599200@d20tavern.com
SUMMARY:Denton Board Gaming
DESCRIPTION:Denton Board Gaming Group meets at d20 Tavern every Tuesday of the month.  Come out and meet some new folks and play some board games!
URL:https://d20tavern.com/events/denton-board-gaming-16/
LOCATION:d20 Tavern
CATEGORIES:Board Games,Community Events
ATTACH;FMTTYPE=image/jpeg:https://d20tavern.com/wp-content/uploads/2025/03/denton-board-gaming-image.jpg
END:VEVENT
BEGIN:VEVENT
DTSTART;TZID=America/Denver:20260408T170000
DTEND;TZID=America/Denver:20260408T220000
DTSTAMP:20260423T141252
CREATED:20260329T234515Z
LAST-MODIFIED:20260329T234515Z
UID:16837-1775667600-1775685600@d20tavern.com
SUMMARY:College Night
DESCRIPTION:Wednesday is College Night! Bring your current student or staff college ID and get half off game pass all day.
URL:https://d20tavern.com/events/college-night-18/
CATEGORIES:College Night,Community Events
ATTACH;FMTTYPE=image/jpeg:https://d20tavern.com/wp-content/uploads/2025/01/college-night-website.jpg
END:VEVENT
BEGIN:VEVENT
DTSTART;TZID=America/Denver:20260408T180000
DTEND;TZID=America/Denver:20260408T220000
DTSTAMP:20260423T141252
CREATED:20260329T234605Z
LAST-MODIFIED:20260329T234605Z
UID:16834-1775671200-1775685600@d20tavern.com
SUMMARY:Wargame Wednesdays
DESCRIPTION:Come out every Wednesday starting at 6pm for Wargame Wednesdays. $2 off pints.
URL:https://d20tavern.com/events/wargame-wednesdays-18/
LOCATION:d20 Tavern
CATEGORIES:Board Games,Drink Special,Wargames
ATTACH;FMTTYPE=image/jpeg:https://d20tavern.com/wp-content/uploads/2025/01/wargame-wed-website-cal.jpg
END:VEVENT
BEGIN:VEVENT
DTSTART;TZID=America/Denver:20260408T190000
DTEND;TZID=America/Denver:20260408T233000
DTSTAMP:20260423T141252
CREATED:20260329T234423Z
LAST-MODIFIED:20260329T234423Z
UID:16830-1775674800-1775691000@d20tavern.com
SUMMARY:BOTC
DESCRIPTION:In the quiet village of Ravenswood Bluff\, ‌a demon walks amongst you…\nDuring a hellish thunderstorm\, on the stroke of midnight\, there echoes a bone-chilling scream. \nA Demon is on the loose\, murdering by night and disguised in human form\nby day. Some have scraps of information. Others have abilities that fight the evil or protect the innocent. But the Demon and its evil minions are spreading lies to confuse and breed suspicion. \nIn the quiet village of Ravenswood Bluff\, ‌a demon walks amongst you… \nWill the good townsfolk put the puzzle together in time to execute the true demon and save themselves? Or will evil overrun this once peaceful village? \n  \n\n 
URL:https://d20tavern.com/events/botc-34/
LOCATION:d20 Tavern
CATEGORIES:BOTC,Spooky
ATTACH;FMTTYPE=image/jpeg:https://d20tavern.com/wp-content/uploads/2025/09/clocktower-calendar.jpg
END:VEVENT
BEGIN:VEVENT
DTSTART;TZID=America/Denver:20260409T190000
DTEND;TZID=America/Denver:20260409T220000
DTSTAMP:20260423T141252
CREATED:20260329T235023Z
LAST-MODIFIED:20260329T235023Z
UID:16859-1775761200-1775772000@d20tavern.com
SUMMARY:Looking For Players (LFP)
DESCRIPTION:Looking For Players Thursday! Join us Thursday starting at 7pm for an open instruction table featuring a different game every week. \n 
URL:https://d20tavern.com/events/looking-for-players-lfp-18/
LOCATION:d20 Tavern
CATEGORIES:Board Games,Halloween,LFP,Looking For Players
ATTACH;FMTTYPE=image/jpeg:https://d20tavern.com/wp-content/uploads/2024/11/lfp-website-calendar-purple.jpg
END:VEVENT
BEGIN:VEVENT
DTSTART;TZID=America/Denver:20260409T190000
DTEND;TZID=America/Denver:20260409T230000
DTSTAMP:20260423T141252
CREATED:20260329T234916Z
LAST-MODIFIED:20260329T234916Z
UID:16853-1775761200-1775775600@d20tavern.com
SUMMARY:d20 AC
DESCRIPTION:Now two session times to choose from!\n7pm-11 & 7:15-11:15\n  \nJoin us every Thursday for an epic Dungeons and Dragons adventure! Whether you’re a seasoned player or new to the game\, our drop-in style campaign promises exciting quests\, thrilling battles\, and unforgettable moments. Don’t miss out on the chance to embark on this d20 adventure – book your spot now!
URL:https://d20tavern.com/events/d20-ac-17/
LOCATION:d20 Tavern
CATEGORIES:D&D,RPG,West Marches
ATTACH;FMTTYPE=image/png:https://d20tavern.com/wp-content/uploads/2025/01/d20-AC-website.png
END:VEVENT
BEGIN:VEVENT
DTSTART;TZID=America/Denver:20260410T183000
DTEND;TZID=America/Denver:20260410T235900
DTSTAMP:20260423T141252
CREATED:20260329T235314Z
LAST-MODIFIED:20260329T235314Z
UID:16873-1775845800-1775865540@d20tavern.com
SUMMARY:Denton Chess Club
DESCRIPTION:The Denton Chess Club meets at d20 Tavern every Friday at 6:30!
URL:https://d20tavern.com/events/denton-chess-club-38/
LOCATION:d20 Tavern
CATEGORIES:Community Events,Weekend
ATTACH;FMTTYPE=image/jpeg:https://d20tavern.com/wp-content/uploads/2025/01/chess-club2.jpg
END:VEVENT
BEGIN:VEVENT
DTSTART;TZID=America/Denver:20260410T190000
DTEND;TZID=America/Denver:20260410T230000
DTSTAMP:20260423T141252
CREATED:20260205T001105Z
LAST-MODIFIED:20260329T235403Z
UID:16585-1775847600-1775862000@d20tavern.com
SUMMARY:Friday Night RPG | Daggerheart
DESCRIPTION:Daggerheart is a collaborative fantasy tabletop RPG where the balance of Hope and Fear shapes your narrative. The card system uses dynamic illustrations to highlight your character’s background and capabilities\, encouraging every player to be a storyteller. Adventure with us!\nWith House GM Kenneth. May contain mature content. For ages 18 and up.
URL:https://d20tavern.com/events/friday-night-rpg-mothership-cloud-empress/
LOCATION:d20 Tavern
CATEGORIES:One Shot,RPG,Weekend
ATTACH;FMTTYPE=image/jpeg:https://d20tavern.com/wp-content/uploads/2026/02/daggerheart-calendar2.jpg
END:VEVENT
BEGIN:VEVENT
DTSTART;TZID=America/Denver:20260411T110000
DTEND;TZID=America/Denver:20260411T140000
DTSTAMP:20260423T141252
CREATED:20260330T000401Z
LAST-MODIFIED:20260330T000404Z
UID:16885-1775905200-1775916000@d20tavern.com
SUMMARY:Downtown Denton Foundation Mimosa Hop
DESCRIPTION:During Denton’s Mimosa Hop\, you will be able to tour around Downtown Denton\, checking out local businesses and sampling any one of up to 12 stops with hand-crafted mimosas. Cool off while checking out the latest trends for the summer and enjoy tasty treats. If this is your first time in Downtown Denton\, this is the perfect time to head to town and check out our awesome shops\, restaurants\, public art\, and more. If you are a regular in town\, take this opportunity to sample a unique\, refreshing mimosa from your regular haunt!
URL:https://d20tavern.com/events/downtown-denton-foundation-mimosa-hop/
CATEGORIES:Bar Crawl,Community Events,Weekend
ATTACH;FMTTYPE=image/jpeg:https://d20tavern.com/wp-content/uploads/2026/03/mimosa-hop.jpg
END:VEVENT
BEGIN:VEVENT
DTSTART;TZID=America/Denver:20260411T130000
DTEND;TZID=America/Denver:20260411T170000
DTSTAMP:20260423T141252
CREATED:20260329T231257Z
LAST-MODIFIED:20260329T235620Z
UID:16769-1775912400-1775926800@d20tavern.com
SUMMARY:d20 AC Saturday
DESCRIPTION:Join us every Saturday for an epic Dungeons and Dragons adventure! Whether you’re a seasoned player or new to the game\, our drop-in style campaign promises exciting quests\, thrilling battles\, and unforgettable moments. Don’t miss out on the chance to embark on this d20 adventure – book your spot now!
URL:https://d20tavern.com/events/d20-ac-saturday/
LOCATION:d20 Tavern
CATEGORIES:D&D,RPG,Weekend,West Marches
ATTACH;FMTTYPE=image/png:https://d20tavern.com/wp-content/uploads/2025/01/d20-AC-website.png
END:VEVENT
BEGIN:VEVENT
DTSTART;TZID=America/Denver:20260412T120000
DTEND;TZID=America/Denver:20260412T170000
DTSTAMP:20260423T141252
CREATED:20260329T232757Z
LAST-MODIFIED:20260329T232757Z
UID:16779-1775995200-1776013200@d20tavern.com
SUMMARY:BattleTech
DESCRIPTION:BattleTech group meets up every Sunday at noon. Come out and join a game of armored combat!
URL:https://d20tavern.com/events/battletech-2/
LOCATION:d20 Tavern
CATEGORIES:Wargames,Weekend
ATTACH;FMTTYPE=image/jpeg:https://d20tavern.com/wp-content/uploads/2025/07/battletech-calendar.jpg
END:VEVENT
BEGIN:VEVENT
DTSTART;TZID=America/Denver:20260412T180000
DTEND;TZID=America/Denver:20260412T210000
DTSTAMP:20260423T141252
CREATED:20260329T233011Z
LAST-MODIFIED:20260329T233011Z
UID:16787-1776016800-1776027600@d20tavern.com
SUMMARY:BOTC
DESCRIPTION:In the quiet village of Ravenswood Bluff\, ‌a demon walks amongst you…\nDuring a hellish thunderstorm\, on the stroke of midnight\, there echoes a bone-chilling scream. \nA Demon is on the loose\, murdering by night and disguised in human form\nby day. Some have scraps of information. Others have abilities that fight the evil or protect the innocent. But the Demon and its evil minions are spreading lies to confuse and breed suspicion. \nIn the quiet village of Ravenswood Bluff\, ‌a demon walks amongst you… \nWill the good townsfolk put the puzzle together in time to execute the true demon and save themselves? Or will evil overrun this once peaceful village? \n 
URL:https://d20tavern.com/events/botc-6/
LOCATION:d20 Tavern
CATEGORIES:BOTC,Spooky
ATTACH;FMTTYPE=image/jpeg:https://d20tavern.com/wp-content/uploads/2025/09/clocktower-calendar.jpg
END:VEVENT
END:VCALENDAR