BEGIN:VCALENDAR
VERSION:2.0
PRODID:-//d20Tavern - ECPv6.15.20//NONSGML v1.0//EN
CALSCALE:GREGORIAN
METHOD:PUBLISH
X-WR-CALNAME:d20Tavern
X-ORIGINAL-URL:https://d20tavern.com
X-WR-CALDESC:Events for d20Tavern
REFRESH-INTERVAL;VALUE=DURATION:PT1H
X-Robots-Tag:noindex
X-PUBLISHED-TTL:PT1H
BEGIN:VTIMEZONE
TZID:America/Denver
BEGIN:DAYLIGHT
TZOFFSETFROM:-0700
TZOFFSETTO:-0600
TZNAME:MDT
DTSTART:20250309T090000
END:DAYLIGHT
BEGIN:STANDARD
TZOFFSETFROM:-0600
TZOFFSETTO:-0700
TZNAME:MST
DTSTART:20251102T080000
END:STANDARD
BEGIN:DAYLIGHT
TZOFFSETFROM:-0700
TZOFFSETTO:-0600
TZNAME:MDT
DTSTART:20260308T090000
END:DAYLIGHT
BEGIN:STANDARD
TZOFFSETFROM:-0600
TZOFFSETTO:-0700
TZNAME:MST
DTSTART:20261101T080000
END:STANDARD
BEGIN:DAYLIGHT
TZOFFSETFROM:-0700
TZOFFSETTO:-0600
TZNAME:MDT
DTSTART:20270314T090000
END:DAYLIGHT
BEGIN:STANDARD
TZOFFSETFROM:-0600
TZOFFSETTO:-0700
TZNAME:MST
DTSTART:20271107T080000
END:STANDARD
END:VTIMEZONE
BEGIN:VEVENT
DTSTART;TZID=America/Denver:20260419T120000
DTEND;TZID=America/Denver:20260419T170000
DTSTAMP:20260423T165929
CREATED:20260329T232813Z
LAST-MODIFIED:20260329T232813Z
UID:16778-1776600000-1776618000@d20tavern.com
SUMMARY:BattleTech
DESCRIPTION:BattleTech group meets up every Sunday at noon. Come out and join a game of armored combat!
URL:https://d20tavern.com/events/battletech-3/
LOCATION:d20 Tavern
CATEGORIES:Wargames,Weekend
ATTACH;FMTTYPE=image/jpeg:https://d20tavern.com/wp-content/uploads/2025/07/battletech-calendar.jpg
END:VEVENT
BEGIN:VEVENT
DTSTART;TZID=America/Denver:20260418T130000
DTEND;TZID=America/Denver:20260418T170000
DTSTAMP:20260423T165929
CREATED:20260329T235804Z
LAST-MODIFIED:20260329T235804Z
UID:16881-1776517200-1776531600@d20tavern.com
SUMMARY:d20 AC Saturday
DESCRIPTION:Join us every Saturday for an epic Dungeons and Dragons adventure! Whether you’re a seasoned player or new to the game\, our drop-in style campaign promises exciting quests\, thrilling battles\, and unforgettable moments. Don’t miss out on the chance to embark on this d20 adventure – book your spot now!
URL:https://d20tavern.com/events/d20-ac-saturday-5/
LOCATION:d20 Tavern
CATEGORIES:D&D,RPG,Weekend,West Marches
ATTACH;FMTTYPE=image/png:https://d20tavern.com/wp-content/uploads/2025/01/d20-AC-website.png
END:VEVENT
BEGIN:VEVENT
DTSTART;TZID=America/Denver:20260417T190000
DTEND;TZID=America/Denver:20260417T230000
DTSTAMP:20260423T165929
CREATED:20260329T235448Z
LAST-MODIFIED:20260329T235448Z
UID:16876-1776452400-1776466800@d20tavern.com
SUMMARY:Friday Night RPG | Daggerheart
DESCRIPTION:Daggerheart is a collaborative fantasy tabletop RPG where the balance of Hope and Fear shapes your narrative. The card system uses dynamic illustrations to highlight your character’s background and capabilities\, encouraging every player to be a storyteller. Adventure with us!\nWith House GM Kenneth. May contain mature content. For ages 18 and up.
URL:https://d20tavern.com/events/friday-night-rpg-daggerheart-3/
LOCATION:d20 Tavern
CATEGORIES:One Shot,RPG,Weekend
ATTACH;FMTTYPE=image/jpeg:https://d20tavern.com/wp-content/uploads/2026/02/daggerheart-calendar2.jpg
END:VEVENT
BEGIN:VEVENT
DTSTART;TZID=America/Denver:20260417T183000
DTEND;TZID=America/Denver:20260417T235900
DTSTAMP:20260423T165929
CREATED:20260329T235221Z
LAST-MODIFIED:20260329T235221Z
UID:16867-1776450600-1776470340@d20tavern.com
SUMMARY:Denton Chess Club
DESCRIPTION:The Denton Chess Club meets at d20 Tavern every Friday at 6:30!
URL:https://d20tavern.com/events/denton-chess-club-35/
LOCATION:d20 Tavern
CATEGORIES:Community Events,Weekend
ATTACH;FMTTYPE=image/jpeg:https://d20tavern.com/wp-content/uploads/2025/01/chess-club2.jpg
END:VEVENT
BEGIN:VEVENT
DTSTART;TZID=America/Denver:20260412T120000
DTEND;TZID=America/Denver:20260412T170000
DTSTAMP:20260423T165929
CREATED:20260329T232757Z
LAST-MODIFIED:20260329T232757Z
UID:16779-1775995200-1776013200@d20tavern.com
SUMMARY:BattleTech
DESCRIPTION:BattleTech group meets up every Sunday at noon. Come out and join a game of armored combat!
URL:https://d20tavern.com/events/battletech-2/
LOCATION:d20 Tavern
CATEGORIES:Wargames,Weekend
ATTACH;FMTTYPE=image/jpeg:https://d20tavern.com/wp-content/uploads/2025/07/battletech-calendar.jpg
END:VEVENT
BEGIN:VEVENT
DTSTART;TZID=America/Denver:20260411T130000
DTEND;TZID=America/Denver:20260411T170000
DTSTAMP:20260423T165929
CREATED:20260329T231257Z
LAST-MODIFIED:20260329T235620Z
UID:16769-1775912400-1775926800@d20tavern.com
SUMMARY:d20 AC Saturday
DESCRIPTION:Join us every Saturday for an epic Dungeons and Dragons adventure! Whether you’re a seasoned player or new to the game\, our drop-in style campaign promises exciting quests\, thrilling battles\, and unforgettable moments. Don’t miss out on the chance to embark on this d20 adventure – book your spot now!
URL:https://d20tavern.com/events/d20-ac-saturday/
LOCATION:d20 Tavern
CATEGORIES:D&D,RPG,Weekend,West Marches
ATTACH;FMTTYPE=image/png:https://d20tavern.com/wp-content/uploads/2025/01/d20-AC-website.png
END:VEVENT
BEGIN:VEVENT
DTSTART;TZID=America/Denver:20260411T110000
DTEND;TZID=America/Denver:20260411T140000
DTSTAMP:20260423T165929
CREATED:20260330T000401Z
LAST-MODIFIED:20260330T000404Z
UID:16885-1775905200-1775916000@d20tavern.com
SUMMARY:Downtown Denton Foundation Mimosa Hop
DESCRIPTION:During Denton’s Mimosa Hop\, you will be able to tour around Downtown Denton\, checking out local businesses and sampling any one of up to 12 stops with hand-crafted mimosas. Cool off while checking out the latest trends for the summer and enjoy tasty treats. If this is your first time in Downtown Denton\, this is the perfect time to head to town and check out our awesome shops\, restaurants\, public art\, and more. If you are a regular in town\, take this opportunity to sample a unique\, refreshing mimosa from your regular haunt!
URL:https://d20tavern.com/events/downtown-denton-foundation-mimosa-hop/
CATEGORIES:Bar Crawl,Community Events,Weekend
ATTACH;FMTTYPE=image/jpeg:https://d20tavern.com/wp-content/uploads/2026/03/mimosa-hop.jpg
END:VEVENT
BEGIN:VEVENT
DTSTART;TZID=America/Denver:20260410T190000
DTEND;TZID=America/Denver:20260410T230000
DTSTAMP:20260423T165929
CREATED:20260205T001105Z
LAST-MODIFIED:20260329T235403Z
UID:16585-1775847600-1775862000@d20tavern.com
SUMMARY:Friday Night RPG | Daggerheart
DESCRIPTION:Daggerheart is a collaborative fantasy tabletop RPG where the balance of Hope and Fear shapes your narrative. The card system uses dynamic illustrations to highlight your character’s background and capabilities\, encouraging every player to be a storyteller. Adventure with us!\nWith House GM Kenneth. May contain mature content. For ages 18 and up.
URL:https://d20tavern.com/events/friday-night-rpg-mothership-cloud-empress/
LOCATION:d20 Tavern
CATEGORIES:One Shot,RPG,Weekend
ATTACH;FMTTYPE=image/jpeg:https://d20tavern.com/wp-content/uploads/2026/02/daggerheart-calendar2.jpg
END:VEVENT
BEGIN:VEVENT
DTSTART;TZID=America/Denver:20260410T183000
DTEND;TZID=America/Denver:20260410T235900
DTSTAMP:20260423T165929
CREATED:20260329T235314Z
LAST-MODIFIED:20260329T235314Z
UID:16873-1775845800-1775865540@d20tavern.com
SUMMARY:Denton Chess Club
DESCRIPTION:The Denton Chess Club meets at d20 Tavern every Friday at 6:30!
URL:https://d20tavern.com/events/denton-chess-club-38/
LOCATION:d20 Tavern
CATEGORIES:Community Events,Weekend
ATTACH;FMTTYPE=image/jpeg:https://d20tavern.com/wp-content/uploads/2025/01/chess-club2.jpg
END:VEVENT
BEGIN:VEVENT
DTSTART;TZID=America/Denver:20260405T120000
DTEND;TZID=America/Denver:20260405T170000
DTSTAMP:20260423T165929
CREATED:20260329T232737Z
LAST-MODIFIED:20260329T232737Z
UID:16780-1775390400-1775408400@d20tavern.com
SUMMARY:BattleTech
DESCRIPTION:BattleTech group meets up every Sunday at noon. Come out and join a game of armored combat!
URL:https://d20tavern.com/events/battletech/
LOCATION:d20 Tavern
CATEGORIES:Wargames,Weekend
ATTACH;FMTTYPE=image/jpeg:https://d20tavern.com/wp-content/uploads/2025/07/battletech-calendar.jpg
END:VEVENT
BEGIN:VEVENT
DTSTART;TZID=America/Denver:20260404T120000
DTEND;TZID=America/Denver:20260404T170000
DTSTAMP:20260423T165929
CREATED:20260329T232311Z
LAST-MODIFIED:20260402T221633Z
UID:16771-1775304000-1775322000@d20tavern.com
SUMMARY:Denton Mini Masters Putt Putt Extravaganza
DESCRIPTION:Join us for the Denton Putt-Putt Extravaganza – a FREE family friendly mini golf tournament in beautiful downtown Denton on Saturday\, April 4th from noon-5PM! Enjoy food and drinks around downtown while you play!
URL:https://d20tavern.com/events/16771/
CATEGORIES:Bar Crawl,Community Events,Weekend
ATTACH;FMTTYPE=image/jpeg:https://d20tavern.com/wp-content/uploads/2026/03/mini-masters-2026.jpg
END:VEVENT
BEGIN:VEVENT
DTSTART;TZID=America/Denver:20260403T183000
DTEND;TZID=America/Denver:20260403T235900
DTSTAMP:20260423T165929
CREATED:20260329T231219Z
LAST-MODIFIED:20260329T231219Z
UID:16767-1775241000-1775260740@d20tavern.com
SUMMARY:Denton Chess Club
DESCRIPTION:The Denton Chess Club meets at d20 Tavern every Friday at 6:30!
URL:https://d20tavern.com/events/denton-chess-club-2/
LOCATION:d20 Tavern
CATEGORIES:Community Events,Weekend
ATTACH;FMTTYPE=image/jpeg:https://d20tavern.com/wp-content/uploads/2025/01/chess-club2.jpg
END:VEVENT
BEGIN:VEVENT
DTSTART;TZID=America/Denver:20260329T120000
DTEND;TZID=America/Denver:20260329T170000
DTSTAMP:20260423T165929
CREATED:20260227T174847Z
LAST-MODIFIED:20260227T174847Z
UID:16610-1774785600-1774803600@d20tavern.com
SUMMARY:BattleTech
DESCRIPTION:BattleTech group meets up every Sunday at noon. Come out and join a game of armored combat!
URL:https://d20tavern.com/events/battletech-13/
LOCATION:d20 Tavern
CATEGORIES:Wargames,Weekend
ATTACH;FMTTYPE=image/jpeg:https://d20tavern.com/wp-content/uploads/2025/07/battletech-calendar.jpg
END:VEVENT
BEGIN:VEVENT
DTSTART;TZID=America/Denver:20260328T130000
DTEND;TZID=America/Denver:20260328T170000
DTSTAMP:20260423T165929
CREATED:20260227T180238Z
LAST-MODIFIED:20260227T180238Z
UID:16645-1774702800-1774717200@d20tavern.com
SUMMARY:d20 AC Saturday
DESCRIPTION:Join us every Saturday for an epic Dungeons and Dragons adventure! Whether you’re a seasoned player or new to the game\, our drop-in style campaign promises exciting quests\, thrilling battles\, and unforgettable moments. Don’t miss out on the chance to embark on this d20 adventure – book your spot now!
URL:https://d20tavern.com/events/d20-ac-saturday-2/
LOCATION:d20 Tavern
CATEGORIES:D&D,RPG,Weekend,West Marches
ATTACH;FMTTYPE=image/png:https://d20tavern.com/wp-content/uploads/2025/01/d20-AC-website.png
END:VEVENT
BEGIN:VEVENT
DTSTART;TZID=America/Denver:20260327T183000
DTEND;TZID=America/Denver:20260327T235900
DTSTAMP:20260423T165929
CREATED:20260227T174944Z
LAST-MODIFIED:20260227T174944Z
UID:16614-1774636200-1774655940@d20tavern.com
SUMMARY:Denton Chess Club
DESCRIPTION:The Denton Chess Club meets at d20 Tavern every Friday at 6:30!
URL:https://d20tavern.com/events/denton-chess-club-6/
LOCATION:d20 Tavern
CATEGORIES:Community Events,Weekend
ATTACH;FMTTYPE=image/jpeg:https://d20tavern.com/wp-content/uploads/2025/01/chess-club2.jpg
END:VEVENT
BEGIN:VEVENT
DTSTART;TZID=America/Denver:20260322T120000
DTEND;TZID=America/Denver:20260322T170000
DTSTAMP:20260423T165929
CREATED:20260227T182017Z
LAST-MODIFIED:20260227T182017Z
UID:16691-1774180800-1774198800@d20tavern.com
SUMMARY:BattleTech
DESCRIPTION:BattleTech group meets up every Sunday at noon. Come out and join a game of armored combat!
URL:https://d20tavern.com/events/battletech-15/
LOCATION:d20 Tavern
CATEGORIES:Wargames,Weekend
ATTACH;FMTTYPE=image/jpeg:https://d20tavern.com/wp-content/uploads/2025/07/battletech-calendar.jpg
END:VEVENT
BEGIN:VEVENT
DTSTART;TZID=America/Denver:20260321T130000
DTEND;TZID=America/Denver:20260321T170000
DTSTAMP:20260423T165929
CREATED:20260227T181921Z
LAST-MODIFIED:20260227T181921Z
UID:16687-1774098000-1774112400@d20tavern.com
SUMMARY:d20 AC Saturday
DESCRIPTION:Join us every Saturday for an epic Dungeons and Dragons adventure! Whether you’re a seasoned player or new to the game\, our drop-in style campaign promises exciting quests\, thrilling battles\, and unforgettable moments. Don’t miss out on the chance to embark on this d20 adventure – book your spot now!
URL:https://d20tavern.com/events/d20-ac-saturday-3/
LOCATION:d20 Tavern
CATEGORIES:D&D,RPG,Weekend,West Marches
ATTACH;FMTTYPE=image/png:https://d20tavern.com/wp-content/uploads/2025/01/d20-AC-website.png
END:VEVENT
BEGIN:VEVENT
DTSTART;TZID=America/Denver:20260320T190000
DTEND;TZID=America/Denver:20260320T230000
DTSTAMP:20260423T165929
CREATED:20260227T181607Z
LAST-MODIFIED:20260227T181607Z
UID:16677-1774033200-1774047600@d20tavern.com
SUMMARY:Friday Night RPG: Daggerheart
DESCRIPTION:Daggerheart is a collaborative fantasy tabletop RPG where the balance of Hope and Fear shapes your narrative. The card system uses dynamic illustrations to highlight your character’s background and capabilities\, encouraging every player to be a storyteller. Adventure with us!\nWith House GM Kenneth. May contain mature content. For ages 18 and up.
URL:https://d20tavern.com/events/friday-night-rpg-daggerheart/
LOCATION:d20 Tavern
CATEGORIES:One Shot,RPG,Weekend
ATTACH;FMTTYPE=image/jpeg:https://d20tavern.com/wp-content/uploads/2026/02/daggerheart-calendar2.jpg
END:VEVENT
BEGIN:VEVENT
DTSTART;TZID=America/Denver:20260320T183000
DTEND;TZID=America/Denver:20260320T235900
DTSTAMP:20260423T165929
CREATED:20260227T181701Z
LAST-MODIFIED:20260227T181701Z
UID:16679-1774031400-1774051140@d20tavern.com
SUMMARY:Denton Chess Club
DESCRIPTION:The Denton Chess Club meets at d20 Tavern every Friday at 6:30!
URL:https://d20tavern.com/events/denton-chess-club-8/
LOCATION:d20 Tavern
CATEGORIES:Community Events,Weekend
ATTACH;FMTTYPE=image/jpeg:https://d20tavern.com/wp-content/uploads/2025/01/chess-club2.jpg
END:VEVENT
BEGIN:VEVENT
DTSTART;TZID=America/Denver:20260315T120000
DTEND;TZID=America/Denver:20260315T170000
DTSTAMP:20260423T165929
CREATED:20260227T182045Z
LAST-MODIFIED:20260227T182045Z
UID:16692-1773576000-1773594000@d20tavern.com
SUMMARY:BattleTech
DESCRIPTION:BattleTech group meets up every Sunday at noon. Come out and join a game of armored combat!
URL:https://d20tavern.com/events/battletech-16/
LOCATION:d20 Tavern
CATEGORIES:Wargames,Weekend
ATTACH;FMTTYPE=image/jpeg:https://d20tavern.com/wp-content/uploads/2025/07/battletech-calendar.jpg
END:VEVENT
BEGIN:VEVENT
DTSTART;TZID=America/Denver:20260313T190000
DTEND;TZID=America/Denver:20260313T230000
DTSTAMP:20260423T165929
CREATED:20260227T175026Z
LAST-MODIFIED:20260227T175026Z
UID:16617-1773428400-1773442800@d20tavern.com
SUMMARY:Friday Night RPG: Something is Out There
DESCRIPTION:“Something is Out There” is a horror TTRPG that combines influences from a number of different sources. It’s a semi-collaborative storytelling game that uses a deck of cards to determine the outcome of actions\, story beats\, and how the world reacts to your influence. Play one of four main Archetypes (Bully\, Babe\, Bookworm\, or Brigand) as you and your Table fight\, figure\, and flee your way through a one-shot style story led by The Dealer (GM). With GM Chase. \n*This game contains mature content. For ages 18 and up.
URL:https://d20tavern.com/events/friday-night-rpg-something-is-out-there/
LOCATION:d20 Tavern
CATEGORIES:One Shot,RPG,Spooky,Weekend
ATTACH;FMTTYPE=image/jpeg:https://d20tavern.com/wp-content/uploads/2025/10/somethingis-out-there.jpg
END:VEVENT
BEGIN:VEVENT
DTSTART;TZID=America/Denver:20260313T183000
DTEND;TZID=America/Denver:20260313T235900
DTSTAMP:20260423T165929
CREATED:20260227T181716Z
LAST-MODIFIED:20260227T181716Z
UID:16680-1773426600-1773446340@d20tavern.com
SUMMARY:Denton Chess Club
DESCRIPTION:The Denton Chess Club meets at d20 Tavern every Friday at 6:30!
URL:https://d20tavern.com/events/denton-chess-club-18/
LOCATION:d20 Tavern
CATEGORIES:Community Events,Weekend
ATTACH;FMTTYPE=image/jpeg:https://d20tavern.com/wp-content/uploads/2025/01/chess-club2.jpg
END:VEVENT
BEGIN:VEVENT
DTSTART;TZID=America/Denver:20260308T120000
DTEND;TZID=America/Denver:20260308T170000
DTSTAMP:20260423T165929
CREATED:20260227T182058Z
LAST-MODIFIED:20260227T182058Z
UID:16693-1772971200-1772989200@d20tavern.com
SUMMARY:BattleTech
DESCRIPTION:BattleTech group meets up every Sunday at noon. Come out and join a game of armored combat!
URL:https://d20tavern.com/events/battletech-17/
LOCATION:d20 Tavern
CATEGORIES:Wargames,Weekend
ATTACH;FMTTYPE=image/jpeg:https://d20tavern.com/wp-content/uploads/2025/07/battletech-calendar.jpg
END:VEVENT
BEGIN:VEVENT
DTSTART;TZID=America/Denver:20260307T130000
DTEND;TZID=America/Denver:20260307T170000
DTSTAMP:20260423T165929
CREATED:20260227T181937Z
LAST-MODIFIED:20260227T181937Z
UID:16688-1772888400-1772902800@d20tavern.com
SUMMARY:d20 AC Saturday
DESCRIPTION:Join us every Saturday for an epic Dungeons and Dragons adventure! Whether you’re a seasoned player or new to the game\, our drop-in style campaign promises exciting quests\, thrilling battles\, and unforgettable moments. Don’t miss out on the chance to embark on this d20 adventure – book your spot now!
URL:https://d20tavern.com/events/d20-ac-saturday-17/
LOCATION:d20 Tavern
CATEGORIES:D&D,RPG,Weekend,West Marches
ATTACH;FMTTYPE=image/png:https://d20tavern.com/wp-content/uploads/2025/01/d20-AC-website.png
END:VEVENT
BEGIN:VEVENT
DTSTART;TZID=America/Denver:20260306T190000
DTEND;TZID=America/Denver:20260306T230000
DTSTAMP:20260423T165929
CREATED:20260227T181828Z
LAST-MODIFIED:20260227T181828Z
UID:16685-1772823600-1772838000@d20tavern.com
SUMMARY:Friday Night RPG: Daggerheart
DESCRIPTION:Daggerheart is a collaborative fantasy tabletop RPG where the balance of Hope and Fear shapes your narrative. The card system uses dynamic illustrations to highlight your character’s background and capabilities\, encouraging every player to be a storyteller. Adventure with us!\nWith House GM Kenneth. May contain mature content. For ages 18 and up.
URL:https://d20tavern.com/events/friday-night-rpg-daggerheart-2/
LOCATION:d20 Tavern
CATEGORIES:One Shot,RPG,Weekend
ATTACH;FMTTYPE=image/jpeg:https://d20tavern.com/wp-content/uploads/2026/02/daggerheart-calendar2.jpg
END:VEVENT
BEGIN:VEVENT
DTSTART;TZID=America/Denver:20260306T183000
DTEND;TZID=America/Denver:20260306T235900
DTSTAMP:20260423T165929
CREATED:20260227T181730Z
LAST-MODIFIED:20260227T181730Z
UID:16681-1772821800-1772841540@d20tavern.com
SUMMARY:Denton Chess Club
DESCRIPTION:The Denton Chess Club meets at d20 Tavern every Friday at 6:30!
URL:https://d20tavern.com/events/denton-chess-club-25/
LOCATION:d20 Tavern
CATEGORIES:Community Events,Weekend
ATTACH;FMTTYPE=image/jpeg:https://d20tavern.com/wp-content/uploads/2025/01/chess-club2.jpg
END:VEVENT
BEGIN:VEVENT
DTSTART;TZID=America/Denver:20260301T120000
DTEND;TZID=America/Denver:20260301T170000
DTSTAMP:20260423T165929
CREATED:20260227T182130Z
LAST-MODIFIED:20260227T182130Z
UID:16695-1772366400-1772384400@d20tavern.com
SUMMARY:BattleTech
DESCRIPTION:BattleTech group meets up every Sunday at noon. Come out and join a game of armored combat!
URL:https://d20tavern.com/events/battletech-18/
LOCATION:d20 Tavern
CATEGORIES:Wargames,Weekend
ATTACH;FMTTYPE=image/jpeg:https://d20tavern.com/wp-content/uploads/2025/07/battletech-calendar.jpg
END:VEVENT
BEGIN:VEVENT
DTSTART;TZID=America/Denver:20260228T130000
DTEND;TZID=America/Denver:20260228T170000
DTSTAMP:20260423T165929
CREATED:20260128T165049Z
LAST-MODIFIED:20260128T165049Z
UID:16467-1772283600-1772298000@d20tavern.com
SUMMARY:d20 AC Saturday
DESCRIPTION:Join us every Saturday for an epic Dungeons and Dragons adventure! Whether you’re a seasoned player or new to the game\, our drop-in style campaign promises exciting quests\, thrilling battles\, and unforgettable moments. Don’t miss out on the chance to embark on this d20 adventure – book your spot now!
URL:https://d20tavern.com/events/d20-ac-saturday-16/
LOCATION:d20 Tavern
CATEGORIES:D&D,RPG,Weekend,West Marches
ATTACH;FMTTYPE=image/png:https://d20tavern.com/wp-content/uploads/2025/01/d20-AC-website.png
END:VEVENT
BEGIN:VEVENT
DTSTART;TZID=America/Denver:20260227T183000
DTEND;TZID=America/Denver:20260227T235900
DTSTAMP:20260423T165929
CREATED:20260128T165802Z
LAST-MODIFIED:20260128T165802Z
UID:16475-1772217000-1772236740@d20tavern.com
SUMMARY:Denton Chess Club
DESCRIPTION:The Denton Chess Club meets at d20 Tavern every Friday at 6:30!
URL:https://d20tavern.com/events/denton-chess-club-11/
LOCATION:d20 Tavern
CATEGORIES:Community Events,Weekend
ATTACH;FMTTYPE=image/jpeg:https://d20tavern.com/wp-content/uploads/2025/01/chess-club2.jpg
END:VEVENT
BEGIN:VEVENT
DTSTART;TZID=America/Denver:20260222T120000
DTEND;TZID=America/Denver:20260222T170000
DTSTAMP:20260423T165929
CREATED:20260128T170000Z
LAST-MODIFIED:20260128T170000Z
UID:16499-1771761600-1771779600@d20tavern.com
SUMMARY:BattleTech
DESCRIPTION:BattleTech group meets up every Sunday at noon. Come out and join a game of armored combat!
URL:https://d20tavern.com/events/battletech-10/
LOCATION:d20 Tavern
CATEGORIES:Wargames,Weekend
ATTACH;FMTTYPE=image/jpeg:https://d20tavern.com/wp-content/uploads/2025/07/battletech-calendar.jpg
END:VEVENT
END:VCALENDAR