BEGIN:VCALENDAR
VERSION:2.0
PRODID:-//d20Tavern - ECPv6.15.20//NONSGML v1.0//EN
CALSCALE:GREGORIAN
METHOD:PUBLISH
X-WR-CALNAME:d20Tavern
X-ORIGINAL-URL:https://d20tavern.com
X-WR-CALDESC:Events for d20Tavern
REFRESH-INTERVAL;VALUE=DURATION:PT1H
X-Robots-Tag:noindex
X-PUBLISHED-TTL:PT1H
BEGIN:VTIMEZONE
TZID:America/Denver
BEGIN:DAYLIGHT
TZOFFSETFROM:-0700
TZOFFSETTO:-0600
TZNAME:MDT
DTSTART:20250309T090000
END:DAYLIGHT
BEGIN:STANDARD
TZOFFSETFROM:-0600
TZOFFSETTO:-0700
TZNAME:MST
DTSTART:20251102T080000
END:STANDARD
BEGIN:DAYLIGHT
TZOFFSETFROM:-0700
TZOFFSETTO:-0600
TZNAME:MDT
DTSTART:20260308T090000
END:DAYLIGHT
BEGIN:STANDARD
TZOFFSETFROM:-0600
TZOFFSETTO:-0700
TZNAME:MST
DTSTART:20261101T080000
END:STANDARD
BEGIN:DAYLIGHT
TZOFFSETFROM:-0700
TZOFFSETTO:-0600
TZNAME:MDT
DTSTART:20270314T090000
END:DAYLIGHT
BEGIN:STANDARD
TZOFFSETFROM:-0600
TZOFFSETTO:-0700
TZNAME:MST
DTSTART:20271107T080000
END:STANDARD
END:VTIMEZONE
BEGIN:VEVENT
DTSTART;TZID=America/Denver:20260315T180000
DTEND;TZID=America/Denver:20260315T210000
DTSTAMP:20260423T174131
CREATED:20260227T182224Z
LAST-MODIFIED:20260227T182224Z
UID:16700-1773597600-1773608400@d20tavern.com
SUMMARY:BOTC
DESCRIPTION:In the quiet village of Ravenswood Bluff\, ‌a demon walks amongst you…\nDuring a hellish thunderstorm\, on the stroke of midnight\, there echoes a bone-chilling scream. \nA Demon is on the loose\, murdering by night and disguised in human form\nby day. Some have scraps of information. Others have abilities that fight the evil or protect the innocent. But the Demon and its evil minions are spreading lies to confuse and breed suspicion. \nIn the quiet village of Ravenswood Bluff\, ‌a demon walks amongst you… \nWill the good townsfolk put the puzzle together in time to execute the true demon and save themselves? Or will evil overrun this once peaceful village? \n 
URL:https://d20tavern.com/events/botc-29/
LOCATION:d20 Tavern
CATEGORIES:BOTC,Spooky
ATTACH;FMTTYPE=image/jpeg:https://d20tavern.com/wp-content/uploads/2025/09/clocktower-calendar.jpg
END:VEVENT
BEGIN:VEVENT
DTSTART;TZID=America/Denver:20260313T190000
DTEND;TZID=America/Denver:20260313T230000
DTSTAMP:20260423T174131
CREATED:20260227T175026Z
LAST-MODIFIED:20260227T175026Z
UID:16617-1773428400-1773442800@d20tavern.com
SUMMARY:Friday Night RPG: Something is Out There
DESCRIPTION:“Something is Out There” is a horror TTRPG that combines influences from a number of different sources. It’s a semi-collaborative storytelling game that uses a deck of cards to determine the outcome of actions\, story beats\, and how the world reacts to your influence. Play one of four main Archetypes (Bully\, Babe\, Bookworm\, or Brigand) as you and your Table fight\, figure\, and flee your way through a one-shot style story led by The Dealer (GM). With GM Chase. \n*This game contains mature content. For ages 18 and up.
URL:https://d20tavern.com/events/friday-night-rpg-something-is-out-there/
LOCATION:d20 Tavern
CATEGORIES:One Shot,RPG,Spooky,Weekend
ATTACH;FMTTYPE=image/jpeg:https://d20tavern.com/wp-content/uploads/2025/10/somethingis-out-there.jpg
END:VEVENT
BEGIN:VEVENT
DTSTART;TZID=America/Denver:20260311T190000
DTEND;TZID=America/Denver:20260311T233000
DTSTAMP:20260423T174131
CREATED:20260227T181023Z
LAST-MODIFIED:20260227T181023Z
UID:16660-1773255600-1773271800@d20tavern.com
SUMMARY:BOTC
DESCRIPTION:In the quiet village of Ravenswood Bluff\, ‌a demon walks amongst you…\nDuring a hellish thunderstorm\, on the stroke of midnight\, there echoes a bone-chilling scream. \nA Demon is on the loose\, murdering by night and disguised in human form\nby day. Some have scraps of information. Others have abilities that fight the evil or protect the innocent. But the Demon and its evil minions are spreading lies to confuse and breed suspicion. \nIn the quiet village of Ravenswood Bluff\, ‌a demon walks amongst you… \nWill the good townsfolk put the puzzle together in time to execute the true demon and save themselves? Or will evil overrun this once peaceful village? \n  \nNew Year’s Eve Blood on the Clocktower sessions all night until 1AM!\n 
URL:https://d20tavern.com/events/botc-23/
LOCATION:d20 Tavern
CATEGORIES:BOTC,Spooky
ATTACH;FMTTYPE=image/jpeg:https://d20tavern.com/wp-content/uploads/2025/09/clocktower-calendar.jpg
END:VEVENT
BEGIN:VEVENT
DTSTART;TZID=America/Denver:20260309T180000
DTEND;TZID=America/Denver:20260309T220000
DTSTAMP:20260423T174131
CREATED:20260227T175625Z
LAST-MODIFIED:20260227T175625Z
UID:16625-1773079200-1773093600@d20tavern.com
SUMMARY:Motley Monday | Goblin Prom
DESCRIPTION:With House GM Chase. *This game contains mature content. For ages 18 and up. \nIT’S PROM NIGHT \nYou and a group of teenage misfits are going to show the world that prom is stupid and fake and you didn’t even want to go anyway so who cares that no one asked you to be their date. SO LAY OFF!!! \nTwo things: \n\nYou and your friends have an elaborate plan to steal the prom queen’s crown and sabotage prom.\nYou are an ACTUAL GOBLIN.\n\nImagine your favorite high school movie like Pretty In Pink\, The Breakfast Club\, Mean Girls\, Angus\, Napoleon Dynamite\, She’s All That\, 10 Things I Hate About You\, or Clueless…then add GOBLINS. \n  \n 
URL:https://d20tavern.com/events/motley-monday-goblin-prom/
LOCATION:d20 Tavern
CATEGORIES:Motley Monday,One Shot,RPG,Spooky
ATTACH;FMTTYPE=image/jpeg:https://d20tavern.com/wp-content/uploads/2025/09/goblinprom.jpg
END:VEVENT
BEGIN:VEVENT
DTSTART;TZID=America/Denver:20260308T180000
DTEND;TZID=America/Denver:20260308T210000
DTSTAMP:20260423T174131
CREATED:20260227T182237Z
LAST-MODIFIED:20260227T182237Z
UID:16701-1772992800-1773003600@d20tavern.com
SUMMARY:BOTC
DESCRIPTION:In the quiet village of Ravenswood Bluff\, ‌a demon walks amongst you…\nDuring a hellish thunderstorm\, on the stroke of midnight\, there echoes a bone-chilling scream. \nA Demon is on the loose\, murdering by night and disguised in human form\nby day. Some have scraps of information. Others have abilities that fight the evil or protect the innocent. But the Demon and its evil minions are spreading lies to confuse and breed suspicion. \nIn the quiet village of Ravenswood Bluff\, ‌a demon walks amongst you… \nWill the good townsfolk put the puzzle together in time to execute the true demon and save themselves? Or will evil overrun this once peaceful village? \n 
URL:https://d20tavern.com/events/botc-30/
LOCATION:d20 Tavern
CATEGORIES:BOTC,Spooky
ATTACH;FMTTYPE=image/jpeg:https://d20tavern.com/wp-content/uploads/2025/09/clocktower-calendar.jpg
END:VEVENT
BEGIN:VEVENT
DTSTART;TZID=America/Denver:20260304T190000
DTEND;TZID=America/Denver:20260304T233000
DTSTAMP:20260423T174131
CREATED:20260227T181041Z
LAST-MODIFIED:20260227T181041Z
UID:16661-1772650800-1772667000@d20tavern.com
SUMMARY:BOTC
DESCRIPTION:In the quiet village of Ravenswood Bluff\, ‌a demon walks amongst you…\nDuring a hellish thunderstorm\, on the stroke of midnight\, there echoes a bone-chilling scream. \nA Demon is on the loose\, murdering by night and disguised in human form\nby day. Some have scraps of information. Others have abilities that fight the evil or protect the innocent. But the Demon and its evil minions are spreading lies to confuse and breed suspicion. \nIn the quiet village of Ravenswood Bluff\, ‌a demon walks amongst you… \nWill the good townsfolk put the puzzle together in time to execute the true demon and save themselves? Or will evil overrun this once peaceful village? \n  \nNew Year’s Eve Blood on the Clocktower sessions all night until 1AM!\n 
URL:https://d20tavern.com/events/botc-25/
LOCATION:d20 Tavern
CATEGORIES:BOTC,Spooky
ATTACH;FMTTYPE=image/jpeg:https://d20tavern.com/wp-content/uploads/2025/09/clocktower-calendar.jpg
END:VEVENT
BEGIN:VEVENT
DTSTART;TZID=America/Denver:20260301T180000
DTEND;TZID=America/Denver:20260301T210000
DTSTAMP:20260423T174131
CREATED:20260227T182252Z
LAST-MODIFIED:20260227T182252Z
UID:16702-1772388000-1772398800@d20tavern.com
SUMMARY:BOTC
DESCRIPTION:In the quiet village of Ravenswood Bluff\, ‌a demon walks amongst you…\nDuring a hellish thunderstorm\, on the stroke of midnight\, there echoes a bone-chilling scream. \nA Demon is on the loose\, murdering by night and disguised in human form\nby day. Some have scraps of information. Others have abilities that fight the evil or protect the innocent. But the Demon and its evil minions are spreading lies to confuse and breed suspicion. \nIn the quiet village of Ravenswood Bluff\, ‌a demon walks amongst you… \nWill the good townsfolk put the puzzle together in time to execute the true demon and save themselves? Or will evil overrun this once peaceful village? \n 
URL:https://d20tavern.com/events/botc-31/
LOCATION:d20 Tavern
CATEGORIES:BOTC,Spooky
ATTACH;FMTTYPE=image/jpeg:https://d20tavern.com/wp-content/uploads/2025/09/clocktower-calendar.jpg
END:VEVENT
BEGIN:VEVENT
DTSTART;TZID=America/Denver:20260225T190000
DTEND;TZID=America/Denver:20260225T233000
DTSTAMP:20260423T174131
CREATED:20260128T165639Z
LAST-MODIFIED:20260128T165639Z
UID:16489-1772046000-1772062200@d20tavern.com
SUMMARY:BOTC
DESCRIPTION:In the quiet village of Ravenswood Bluff\, ‌a demon walks amongst you…\nDuring a hellish thunderstorm\, on the stroke of midnight\, there echoes a bone-chilling scream. \nA Demon is on the loose\, murdering by night and disguised in human form\nby day. Some have scraps of information. Others have abilities that fight the evil or protect the innocent. But the Demon and its evil minions are spreading lies to confuse and breed suspicion. \nIn the quiet village of Ravenswood Bluff\, ‌a demon walks amongst you… \nWill the good townsfolk put the puzzle together in time to execute the true demon and save themselves? Or will evil overrun this once peaceful village? \n  \nNew Year’s Eve Blood on the Clocktower sessions all night until 1AM!\n 
URL:https://d20tavern.com/events/botc-14/
LOCATION:d20 Tavern
CATEGORIES:BOTC,Spooky
ATTACH;FMTTYPE=image/jpeg:https://d20tavern.com/wp-content/uploads/2025/09/clocktower-calendar.jpg
END:VEVENT
BEGIN:VEVENT
DTSTART;TZID=America/Denver:20260223T180000
DTEND;TZID=America/Denver:20260223T220000
DTSTAMP:20260423T174131
CREATED:20260205T000928Z
LAST-MODIFIED:20260205T000928Z
UID:16583-1771869600-1771884000@d20tavern.com
SUMMARY:Motley Monday: Bluebeard's Bride
DESCRIPTION:Join House GM Gabi for this horror TTRPG one shot. A young bride is wed to an ugly\, but powerful man with a blue beard. He invites her to explore the house… but one room is forbidden. What horrors will she discover behind the door? Bluebeard’s Bride is a gothic horror tabletop role-playing game based on the Bluebeard folktale. *This session contains mature content. Ages 18 and up only. \nWe have everything you need to play! \n 
URL:https://d20tavern.com/events/motley-monday-bluebeards-bride/
LOCATION:d20 Tavern
CATEGORIES:Motley Monday,One Shot,RPG,Spooky
ATTACH;FMTTYPE=image/jpeg:https://d20tavern.com/wp-content/uploads/2025/01/bb-bride-website-calendar.jpg2_.jpg
END:VEVENT
BEGIN:VEVENT
DTSTART;TZID=America/Denver:20260222T180000
DTEND;TZID=America/Denver:20260222T210000
DTSTAMP:20260423T174131
CREATED:20260128T170035Z
LAST-MODIFIED:20260128T170035Z
UID:16501-1771783200-1771794000@d20tavern.com
SUMMARY:BOTC
DESCRIPTION:In the quiet village of Ravenswood Bluff\, ‌a demon walks amongst you…\nDuring a hellish thunderstorm\, on the stroke of midnight\, there echoes a bone-chilling scream. \nA Demon is on the loose\, murdering by night and disguised in human form\nby day. Some have scraps of information. Others have abilities that fight the evil or protect the innocent. But the Demon and its evil minions are spreading lies to confuse and breed suspicion. \nIn the quiet village of Ravenswood Bluff\, ‌a demon walks amongst you… \nWill the good townsfolk put the puzzle together in time to execute the true demon and save themselves? Or will evil overrun this once peaceful village? \n 
URL:https://d20tavern.com/events/botc-15/
LOCATION:d20 Tavern
CATEGORIES:BOTC,Spooky
ATTACH;FMTTYPE=image/jpeg:https://d20tavern.com/wp-content/uploads/2025/09/clocktower-calendar.jpg
END:VEVENT
BEGIN:VEVENT
DTSTART;TZID=America/Denver:20260218T190000
DTEND;TZID=America/Denver:20260218T233000
DTSTAMP:20260423T174131
CREATED:20260128T171004Z
LAST-MODIFIED:20260128T171004Z
UID:16525-1771441200-1771457400@d20tavern.com
SUMMARY:BOTC
DESCRIPTION:In the quiet village of Ravenswood Bluff\, ‌a demon walks amongst you…\nDuring a hellish thunderstorm\, on the stroke of midnight\, there echoes a bone-chilling scream. \nA Demon is on the loose\, murdering by night and disguised in human form\nby day. Some have scraps of information. Others have abilities that fight the evil or protect the innocent. But the Demon and its evil minions are spreading lies to confuse and breed suspicion. \nIn the quiet village of Ravenswood Bluff\, ‌a demon walks amongst you… \nWill the good townsfolk put the puzzle together in time to execute the true demon and save themselves? Or will evil overrun this once peaceful village? \n  \nNew Year’s Eve Blood on the Clocktower sessions all night until 1AM!\n 
URL:https://d20tavern.com/events/botc-19/
LOCATION:d20 Tavern
CATEGORIES:BOTC,Spooky
ATTACH;FMTTYPE=image/jpeg:https://d20tavern.com/wp-content/uploads/2025/09/clocktower-calendar.jpg
END:VEVENT
BEGIN:VEVENT
DTSTART;TZID=America/Denver:20260215T180000
DTEND;TZID=America/Denver:20260215T210000
DTSTAMP:20260423T174131
CREATED:20260128T170930Z
LAST-MODIFIED:20260128T170930Z
UID:16528-1771178400-1771189200@d20tavern.com
SUMMARY:BOTC
DESCRIPTION:In the quiet village of Ravenswood Bluff\, ‌a demon walks amongst you…\nDuring a hellish thunderstorm\, on the stroke of midnight\, there echoes a bone-chilling scream. \nA Demon is on the loose\, murdering by night and disguised in human form\nby day. Some have scraps of information. Others have abilities that fight the evil or protect the innocent. But the Demon and its evil minions are spreading lies to confuse and breed suspicion. \nIn the quiet village of Ravenswood Bluff\, ‌a demon walks amongst you… \nWill the good townsfolk put the puzzle together in time to execute the true demon and save themselves? Or will evil overrun this once peaceful village? \n 
URL:https://d20tavern.com/events/botc-16/
LOCATION:d20 Tavern
CATEGORIES:BOTC,Spooky
ATTACH;FMTTYPE=image/jpeg:https://d20tavern.com/wp-content/uploads/2025/09/clocktower-calendar.jpg
END:VEVENT
BEGIN:VEVENT
DTSTART;TZID=America/Denver:20260213T190000
DTEND;TZID=America/Denver:20260213T230000
DTSTAMP:20260423T174131
CREATED:20260204T234001Z
LAST-MODIFIED:20260204T234002Z
UID:16570-1771009200-1771023600@d20tavern.com
SUMMARY:Friday Night RPG: Bluebeard's Bride
DESCRIPTION:This Friday 13th\, join House GM Gabi for this horror TTRPG one shot. A young bride is wed to an ugly\, but powerful man with a blue beard. He invites her to explore the house… but one room is forbidden. What horrors will she discover behind the door? Bluebeard’s Bride is a gothic horror tabletop role-playing game based on the Bluebeard folktale. *This session contains mature content. Ages 18 and up only. \nWe have everything you need to play! \n 
URL:https://d20tavern.com/events/friday-night-rpg-bluebeards-bride/
LOCATION:d20 Tavern
CATEGORIES:One Shot,RPG,Spooky,Weekend
ATTACH;FMTTYPE=image/jpeg:https://d20tavern.com/wp-content/uploads/2025/01/bb-bride-website-calendar.jpg2_.jpg
END:VEVENT
BEGIN:VEVENT
DTSTART;TZID=America/Denver:20260211T190000
DTEND;TZID=America/Denver:20260211T233000
DTSTAMP:20260423T174131
CREATED:20260128T171721Z
LAST-MODIFIED:20260128T171721Z
UID:16549-1770836400-1770852600@d20tavern.com
SUMMARY:BOTC
DESCRIPTION:In the quiet village of Ravenswood Bluff\, ‌a demon walks amongst you…\nDuring a hellish thunderstorm\, on the stroke of midnight\, there echoes a bone-chilling scream. \nA Demon is on the loose\, murdering by night and disguised in human form\nby day. Some have scraps of information. Others have abilities that fight the evil or protect the innocent. But the Demon and its evil minions are spreading lies to confuse and breed suspicion. \nIn the quiet village of Ravenswood Bluff\, ‌a demon walks amongst you… \nWill the good townsfolk put the puzzle together in time to execute the true demon and save themselves? Or will evil overrun this once peaceful village? \n  \nNew Year’s Eve Blood on the Clocktower sessions all night until 1AM!\n 
URL:https://d20tavern.com/events/botc-22/
LOCATION:d20 Tavern
CATEGORIES:BOTC,Spooky
ATTACH;FMTTYPE=image/jpeg:https://d20tavern.com/wp-content/uploads/2025/09/clocktower-calendar.jpg
END:VEVENT
BEGIN:VEVENT
DTSTART;TZID=America/Denver:20260208T180000
DTEND;TZID=America/Denver:20260208T210000
DTSTAMP:20260423T174131
CREATED:20260128T171054Z
LAST-MODIFIED:20260128T171054Z
UID:16533-1770573600-1770584400@d20tavern.com
SUMMARY:BOTC
DESCRIPTION:In the quiet village of Ravenswood Bluff\, ‌a demon walks amongst you…\nDuring a hellish thunderstorm\, on the stroke of midnight\, there echoes a bone-chilling scream. \nA Demon is on the loose\, murdering by night and disguised in human form\nby day. Some have scraps of information. Others have abilities that fight the evil or protect the innocent. But the Demon and its evil minions are spreading lies to confuse and breed suspicion. \nIn the quiet village of Ravenswood Bluff\, ‌a demon walks amongst you… \nWill the good townsfolk put the puzzle together in time to execute the true demon and save themselves? Or will evil overrun this once peaceful village? \n 
URL:https://d20tavern.com/events/botc-20/
LOCATION:d20 Tavern
CATEGORIES:BOTC,Spooky
ATTACH;FMTTYPE=image/jpeg:https://d20tavern.com/wp-content/uploads/2025/09/clocktower-calendar.jpg
END:VEVENT
BEGIN:VEVENT
DTSTART;TZID=America/Denver:20260206T190000
DTEND;TZID=America/Denver:20260206T230000
DTSTAMP:20260423T174131
CREATED:20260128T172138Z
LAST-MODIFIED:20260128T172138Z
UID:16565-1770404400-1770418800@d20tavern.com
SUMMARY:Friday Night RPG: Something is Out There
DESCRIPTION:“Something is Out There” is a horror TTRPG that combines influences from a number of different sources. It’s a semi-collaborative storytelling game that uses a deck of cards to determine the outcome of actions\, story beats\, and how the world reacts to your influence. Play one of four main Archetypes (Bully\, Babe\, Bookworm\, or Brigand) as you and your Table fight\, figure\, and flee your way through a one-shot style story led by The Dealer (GM). With GM Chase. \n*This game contains mature content. For ages 18 and up.
URL:https://d20tavern.com/events/friday-night-rpg-something-is-out-there-4/
LOCATION:d20 Tavern
CATEGORIES:One Shot,RPG,Spooky,Weekend
ATTACH;FMTTYPE=image/jpeg:https://d20tavern.com/wp-content/uploads/2025/10/somethingis-out-there.jpg
END:VEVENT
BEGIN:VEVENT
DTSTART;TZID=America/Denver:20260204T190000
DTEND;TZID=America/Denver:20260204T233000
DTSTAMP:20260423T174131
CREATED:20260128T171738Z
LAST-MODIFIED:20260128T171738Z
UID:16552-1770231600-1770247800@d20tavern.com
SUMMARY:BOTC
DESCRIPTION:In the quiet village of Ravenswood Bluff\, ‌a demon walks amongst you…\nDuring a hellish thunderstorm\, on the stroke of midnight\, there echoes a bone-chilling scream. \nA Demon is on the loose\, murdering by night and disguised in human form\nby day. Some have scraps of information. Others have abilities that fight the evil or protect the innocent. But the Demon and its evil minions are spreading lies to confuse and breed suspicion. \nIn the quiet village of Ravenswood Bluff\, ‌a demon walks amongst you… \nWill the good townsfolk put the puzzle together in time to execute the true demon and save themselves? Or will evil overrun this once peaceful village? \n  \nNew Year’s Eve Blood on the Clocktower sessions all night until 1AM!\n 
URL:https://d20tavern.com/events/botc-24/
LOCATION:d20 Tavern
CATEGORIES:BOTC,Spooky
ATTACH;FMTTYPE=image/jpeg:https://d20tavern.com/wp-content/uploads/2025/09/clocktower-calendar.jpg
END:VEVENT
BEGIN:VEVENT
DTSTART;TZID=America/Denver:20260201T180000
DTEND;TZID=America/Denver:20260201T210000
DTSTAMP:20260423T174131
CREATED:20260128T165309Z
LAST-MODIFIED:20260128T165309Z
UID:16478-1769968800-1769979600@d20tavern.com
SUMMARY:BOTC
DESCRIPTION:In the quiet village of Ravenswood Bluff\, ‌a demon walks amongst you…\nDuring a hellish thunderstorm\, on the stroke of midnight\, there echoes a bone-chilling scream. \nA Demon is on the loose\, murdering by night and disguised in human form\nby day. Some have scraps of information. Others have abilities that fight the evil or protect the innocent. But the Demon and its evil minions are spreading lies to confuse and breed suspicion. \nIn the quiet village of Ravenswood Bluff\, ‌a demon walks amongst you… \nWill the good townsfolk put the puzzle together in time to execute the true demon and save themselves? Or will evil overrun this once peaceful village? \n 
URL:https://d20tavern.com/events/botc-13/
LOCATION:d20 Tavern
CATEGORIES:BOTC,Spooky
ATTACH;FMTTYPE=image/jpeg:https://d20tavern.com/wp-content/uploads/2025/09/clocktower-calendar.jpg
END:VEVENT
BEGIN:VEVENT
DTSTART;TZID=America/Denver:20260128T190000
DTEND;TZID=America/Denver:20260128T233000
DTSTAMP:20260423T174131
CREATED:20251229T162848Z
LAST-MODIFIED:20251229T162848Z
UID:16398-1769626800-1769643000@d20tavern.com
SUMMARY:BOTC
DESCRIPTION:In the quiet village of Ravenswood Bluff\, ‌a demon walks amongst you…\nDuring a hellish thunderstorm\, on the stroke of midnight\, there echoes a bone-chilling scream. \nA Demon is on the loose\, murdering by night and disguised in human form\nby day. Some have scraps of information. Others have abilities that fight the evil or protect the innocent. But the Demon and its evil minions are spreading lies to confuse and breed suspicion. \nIn the quiet village of Ravenswood Bluff\, ‌a demon walks amongst you… \nWill the good townsfolk put the puzzle together in time to execute the true demon and save themselves? Or will evil overrun this once peaceful village? \n  \nNew Year’s Eve Blood on the Clocktower sessions all night until 1AM!\n 
URL:https://d20tavern.com/events/botc-8/
LOCATION:d20 Tavern
CATEGORIES:BOTC,Spooky
ATTACH;FMTTYPE=image/jpeg:https://d20tavern.com/wp-content/uploads/2025/09/clocktower-calendar.jpg
END:VEVENT
BEGIN:VEVENT
DTSTART;TZID=America/Denver:20260125T180000
DTEND;TZID=America/Denver:20260125T210000
DTSTAMP:20260423T174131
CREATED:20251229T153212Z
LAST-MODIFIED:20251229T153212Z
UID:16343-1769364000-1769374800@d20tavern.com
SUMMARY:BOTC
DESCRIPTION:In the quiet village of Ravenswood Bluff\, ‌a demon walks amongst you…\nDuring a hellish thunderstorm\, on the stroke of midnight\, there echoes a bone-chilling scream. \nA Demon is on the loose\, murdering by night and disguised in human form\nby day. Some have scraps of information. Others have abilities that fight the evil or protect the innocent. But the Demon and its evil minions are spreading lies to confuse and breed suspicion. \nIn the quiet village of Ravenswood Bluff\, ‌a demon walks amongst you… \nWill the good townsfolk put the puzzle together in time to execute the true demon and save themselves? Or will evil overrun this once peaceful village? \n 
URL:https://d20tavern.com/events/botc-7/
LOCATION:d20 Tavern
CATEGORIES:BOTC,Spooky
ATTACH;FMTTYPE=image/jpeg:https://d20tavern.com/wp-content/uploads/2025/09/clocktower-calendar.jpg
END:VEVENT
END:VCALENDAR