BEGIN:VCALENDAR
VERSION:2.0
PRODID:-//d20Tavern - ECPv6.15.20//NONSGML v1.0//EN
CALSCALE:GREGORIAN
METHOD:PUBLISH
X-WR-CALNAME:d20Tavern
X-ORIGINAL-URL:https://d20tavern.com
X-WR-CALDESC:Events for d20Tavern
REFRESH-INTERVAL;VALUE=DURATION:PT1H
X-Robots-Tag:noindex
X-PUBLISHED-TTL:PT1H
BEGIN:VTIMEZONE
TZID:America/Denver
BEGIN:DAYLIGHT
TZOFFSETFROM:-0700
TZOFFSETTO:-0600
TZNAME:MDT
DTSTART:20250309T090000
END:DAYLIGHT
BEGIN:STANDARD
TZOFFSETFROM:-0600
TZOFFSETTO:-0700
TZNAME:MST
DTSTART:20251102T080000
END:STANDARD
BEGIN:DAYLIGHT
TZOFFSETFROM:-0700
TZOFFSETTO:-0600
TZNAME:MDT
DTSTART:20260308T090000
END:DAYLIGHT
BEGIN:STANDARD
TZOFFSETFROM:-0600
TZOFFSETTO:-0700
TZNAME:MST
DTSTART:20261101T080000
END:STANDARD
BEGIN:DAYLIGHT
TZOFFSETFROM:-0700
TZOFFSETTO:-0600
TZNAME:MDT
DTSTART:20270314T090000
END:DAYLIGHT
BEGIN:STANDARD
TZOFFSETFROM:-0600
TZOFFSETTO:-0700
TZNAME:MST
DTSTART:20271107T080000
END:STANDARD
END:VTIMEZONE
BEGIN:VEVENT
DTSTART;TZID=America/Denver:20260409T190000
DTEND;TZID=America/Denver:20260409T230000
DTSTAMP:20260423T173949
CREATED:20260329T234916Z
LAST-MODIFIED:20260329T234916Z
UID:16853-1775761200-1775775600@d20tavern.com
SUMMARY:d20 AC
DESCRIPTION:Now two session times to choose from!\n7pm-11 & 7:15-11:15\n  \nJoin us every Thursday for an epic Dungeons and Dragons adventure! Whether you’re a seasoned player or new to the game\, our drop-in style campaign promises exciting quests\, thrilling battles\, and unforgettable moments. Don’t miss out on the chance to embark on this d20 adventure – book your spot now!
URL:https://d20tavern.com/events/d20-ac-17/
LOCATION:d20 Tavern
CATEGORIES:D&D,RPG,West Marches
ATTACH;FMTTYPE=image/png:https://d20tavern.com/wp-content/uploads/2025/01/d20-AC-website.png
END:VEVENT
BEGIN:VEVENT
DTSTART;TZID=America/Denver:20260410T190000
DTEND;TZID=America/Denver:20260410T230000
DTSTAMP:20260423T173949
CREATED:20260205T001105Z
LAST-MODIFIED:20260329T235403Z
UID:16585-1775847600-1775862000@d20tavern.com
SUMMARY:Friday Night RPG | Daggerheart
DESCRIPTION:Daggerheart is a collaborative fantasy tabletop RPG where the balance of Hope and Fear shapes your narrative. The card system uses dynamic illustrations to highlight your character’s background and capabilities\, encouraging every player to be a storyteller. Adventure with us!\nWith House GM Kenneth. May contain mature content. For ages 18 and up.
URL:https://d20tavern.com/events/friday-night-rpg-mothership-cloud-empress/
LOCATION:d20 Tavern
CATEGORIES:One Shot,RPG,Weekend
ATTACH;FMTTYPE=image/jpeg:https://d20tavern.com/wp-content/uploads/2026/02/daggerheart-calendar2.jpg
END:VEVENT
BEGIN:VEVENT
DTSTART;TZID=America/Denver:20260411T130000
DTEND;TZID=America/Denver:20260411T170000
DTSTAMP:20260423T173949
CREATED:20260329T231257Z
LAST-MODIFIED:20260329T235620Z
UID:16769-1775912400-1775926800@d20tavern.com
SUMMARY:d20 AC Saturday
DESCRIPTION:Join us every Saturday for an epic Dungeons and Dragons adventure! Whether you’re a seasoned player or new to the game\, our drop-in style campaign promises exciting quests\, thrilling battles\, and unforgettable moments. Don’t miss out on the chance to embark on this d20 adventure – book your spot now!
URL:https://d20tavern.com/events/d20-ac-saturday/
LOCATION:d20 Tavern
CATEGORIES:D&D,RPG,Weekend,West Marches
ATTACH;FMTTYPE=image/png:https://d20tavern.com/wp-content/uploads/2025/01/d20-AC-website.png
END:VEVENT
BEGIN:VEVENT
DTSTART;TZID=America/Denver:20260413T180000
DTEND;TZID=America/Denver:20260413T220000
DTSTAMP:20260423T173949
CREATED:20251205T035602Z
LAST-MODIFIED:20260329T233342Z
UID:16329-1776103200-1776117600@d20tavern.com
SUMMARY:Motley Monday RPG: Something is Out There
DESCRIPTION:“Something is Out There” is a horror TTRPG that combines influences from a number of different sources. It’s a semi-collaborative storytelling game that uses a deck of cards to determine the outcome of actions\, story beats\, and how the world reacts to your influence. Play one of four main Archetypes (Bully\, Babe\, Bookworm\, or Brigand) as you and your Table fight\, figure\, and flee your way through a one-shot style story led by The Dealer (GM). With GM Chase. \n*This game contains mature content. For ages 18 and up.
URL:https://d20tavern.com/events/motley-monday-rpg-something-is-out-there/
LOCATION:d20 Tavern
CATEGORIES:Crit-mas,Motley Monday,One Shot,RPG,Spooky
ATTACH;FMTTYPE=image/jpeg:https://d20tavern.com/wp-content/uploads/2025/10/somethingis-out-there.jpg
END:VEVENT
BEGIN:VEVENT
DTSTART;TZID=America/Denver:20260416T190000
DTEND;TZID=America/Denver:20260416T230000
DTSTAMP:20260423T173949
CREATED:20260329T234900Z
LAST-MODIFIED:20260329T234900Z
UID:16852-1776366000-1776380400@d20tavern.com
SUMMARY:d20 AC
DESCRIPTION:Now two session times to choose from!\n7pm-11 & 7:15-11:15\n  \nJoin us every Thursday for an epic Dungeons and Dragons adventure! Whether you’re a seasoned player or new to the game\, our drop-in style campaign promises exciting quests\, thrilling battles\, and unforgettable moments. Don’t miss out on the chance to embark on this d20 adventure – book your spot now!
URL:https://d20tavern.com/events/d20-ac-16/
LOCATION:d20 Tavern
CATEGORIES:D&D,RPG,West Marches
ATTACH;FMTTYPE=image/png:https://d20tavern.com/wp-content/uploads/2025/01/d20-AC-website.png
END:VEVENT
BEGIN:VEVENT
DTSTART;TZID=America/Denver:20260417T190000
DTEND;TZID=America/Denver:20260417T230000
DTSTAMP:20260423T173949
CREATED:20260329T235448Z
LAST-MODIFIED:20260329T235448Z
UID:16876-1776452400-1776466800@d20tavern.com
SUMMARY:Friday Night RPG | Daggerheart
DESCRIPTION:Daggerheart is a collaborative fantasy tabletop RPG where the balance of Hope and Fear shapes your narrative. The card system uses dynamic illustrations to highlight your character’s background and capabilities\, encouraging every player to be a storyteller. Adventure with us!\nWith House GM Kenneth. May contain mature content. For ages 18 and up.
URL:https://d20tavern.com/events/friday-night-rpg-daggerheart-3/
LOCATION:d20 Tavern
CATEGORIES:One Shot,RPG,Weekend
ATTACH;FMTTYPE=image/jpeg:https://d20tavern.com/wp-content/uploads/2026/02/daggerheart-calendar2.jpg
END:VEVENT
BEGIN:VEVENT
DTSTART;TZID=America/Denver:20260418T130000
DTEND;TZID=America/Denver:20260418T170000
DTSTAMP:20260423T173949
CREATED:20260329T235804Z
LAST-MODIFIED:20260329T235804Z
UID:16881-1776517200-1776531600@d20tavern.com
SUMMARY:d20 AC Saturday
DESCRIPTION:Join us every Saturday for an epic Dungeons and Dragons adventure! Whether you’re a seasoned player or new to the game\, our drop-in style campaign promises exciting quests\, thrilling battles\, and unforgettable moments. Don’t miss out on the chance to embark on this d20 adventure – book your spot now!
URL:https://d20tavern.com/events/d20-ac-saturday-5/
LOCATION:d20 Tavern
CATEGORIES:D&D,RPG,Weekend,West Marches
ATTACH;FMTTYPE=image/png:https://d20tavern.com/wp-content/uploads/2025/01/d20-AC-website.png
END:VEVENT
BEGIN:VEVENT
DTSTART;TZID=America/Denver:20260420T180000
DTEND;TZID=America/Denver:20260420T220000
DTSTAMP:20260423T173949
CREATED:20260204T235547Z
LAST-MODIFIED:20260415T145328Z
UID:16577-1776708000-1776722400@d20tavern.com
SUMMARY:Motley Monday | Flail
DESCRIPTION:Flail is a chaotic\, frontstabbing OSR fantasy brawler where everything goes wrong – on purpose. Trip\, swing\, and fumble through a world that hits back. “Mausritter meets Dungeon Crawl Classics!” \nGet dropped into a world of low hit points\, bad odds\, moody miracles\, twitchy spells\, doomed equipment and chaotic brawls that keep escalating for no good reason. Unless you do have a reason? Do you have a reason? By nightfall\, the taverns will run on lore\, laughter and ale to decide on whether you were brilliant or just running in the wrong direction convincingly. \nWith House GM Kenneth. For ages 18 and up.
URL:https://d20tavern.com/events/motley-monday-mothership-cloud-empress/
LOCATION:d20 Tavern
CATEGORIES:Motley Monday,One Shot,RPG
ATTACH;FMTTYPE=image/jpeg:https://d20tavern.com/wp-content/uploads/2026/02/flail-website-calendar.jpg
END:VEVENT
BEGIN:VEVENT
DTSTART;TZID=America/Denver:20260423T190000
DTEND;TZID=America/Denver:20260423T230000
DTSTAMP:20260423T173949
CREATED:20260329T234826Z
LAST-MODIFIED:20260329T234826Z
UID:16854-1776970800-1776985200@d20tavern.com
SUMMARY:d20 AC
DESCRIPTION:Now two session times to choose from!\n7pm-11 & 7:15-11:15\n  \nJoin us every Thursday for an epic Dungeons and Dragons adventure! Whether you’re a seasoned player or new to the game\, our drop-in style campaign promises exciting quests\, thrilling battles\, and unforgettable moments. Don’t miss out on the chance to embark on this d20 adventure – book your spot now!
URL:https://d20tavern.com/events/d20-ac-8/
LOCATION:d20 Tavern
CATEGORIES:D&D,RPG,West Marches
ATTACH;FMTTYPE=image/png:https://d20tavern.com/wp-content/uploads/2025/01/d20-AC-website.png
END:VEVENT
BEGIN:VEVENT
DTSTART;TZID=America/Denver:20260424T190000
DTEND;TZID=America/Denver:20260424T230000
DTSTAMP:20260423T173949
CREATED:20260204T234128Z
LAST-MODIFIED:20260329T235530Z
UID:16572-1777057200-1777071600@d20tavern.com
SUMMARY:Friday Night RPG | Something is Out There
DESCRIPTION:“Something is Out There” is a horror TTRPG that combines influences from a number of different sources. It’s a semi-collaborative storytelling game that uses a deck of cards to determine the outcome of actions\, story beats\, and how the world reacts to your influence. Play one of four main Archetypes (Bully\, Babe\, Bookworm\, or Brigand) as you and your Table fight\, figure\, and flee your way through a one-shot style story led by The Dealer (GM). With GM Chase. \n*This game contains mature content. For ages 18 and up.
URL:https://d20tavern.com/events/friday-night-rpg-something-is-out-there-5/
LOCATION:d20 Tavern
CATEGORIES:One Shot,RPG,Spooky,Weekend
ATTACH;FMTTYPE=image/jpeg:https://d20tavern.com/wp-content/uploads/2025/10/somethingis-out-there.jpg
END:VEVENT
BEGIN:VEVENT
DTSTART;TZID=America/Denver:20260425T130000
DTEND;TZID=America/Denver:20260425T170000
DTSTAMP:20260423T173949
CREATED:20260329T235715Z
LAST-MODIFIED:20260329T235715Z
UID:16879-1777122000-1777136400@d20tavern.com
SUMMARY:d20 AC Saturday
DESCRIPTION:Join us every Saturday for an epic Dungeons and Dragons adventure! Whether you’re a seasoned player or new to the game\, our drop-in style campaign promises exciting quests\, thrilling battles\, and unforgettable moments. Don’t miss out on the chance to embark on this d20 adventure – book your spot now!
URL:https://d20tavern.com/events/d20-ac-saturday-4/
LOCATION:d20 Tavern
CATEGORIES:D&D,RPG,Weekend,West Marches
ATTACH;FMTTYPE=image/png:https://d20tavern.com/wp-content/uploads/2025/01/d20-AC-website.png
END:VEVENT
BEGIN:VEVENT
DTSTART;TZID=America/Denver:20260430T190000
DTEND;TZID=America/Denver:20260430T230000
DTSTAMP:20260423T173949
CREATED:20260329T234749Z
LAST-MODIFIED:20260329T234749Z
UID:16848-1777575600-1777590000@d20tavern.com
SUMMARY:d20 AC
DESCRIPTION:Now two session times to choose from!\n7pm-11 & 7:15-11:15\n  \nJoin us every Thursday for an epic Dungeons and Dragons adventure! Whether you’re a seasoned player or new to the game\, our drop-in style campaign promises exciting quests\, thrilling battles\, and unforgettable moments. Don’t miss out on the chance to embark on this d20 adventure – book your spot now!
URL:https://d20tavern.com/events/d20-ac-6/
LOCATION:d20 Tavern
CATEGORIES:D&D,RPG,West Marches
ATTACH;FMTTYPE=image/png:https://d20tavern.com/wp-content/uploads/2025/01/d20-AC-website.png
END:VEVENT
BEGIN:VEVENT
DTSTART;TZID=America/Denver:20260502T130000
DTEND;TZID=America/Denver:20260502T170000
DTSTAMP:20260423T173949
CREATED:20260329T235840Z
LAST-MODIFIED:20260329T235840Z
UID:16883-1777726800-1777741200@d20tavern.com
SUMMARY:d20 AC Saturday
DESCRIPTION:Join us every Saturday for an epic Dungeons and Dragons adventure! Whether you’re a seasoned player or new to the game\, our drop-in style campaign promises exciting quests\, thrilling battles\, and unforgettable moments. Don’t miss out on the chance to embark on this d20 adventure – book your spot now!
URL:https://d20tavern.com/events/d20-ac-saturday-6/
LOCATION:d20 Tavern
CATEGORIES:D&D,RPG,Weekend,West Marches
ATTACH;FMTTYPE=image/png:https://d20tavern.com/wp-content/uploads/2025/01/d20-AC-website.png
END:VEVENT
END:VCALENDAR