BEGIN:VCALENDAR
VERSION:2.0
PRODID:-//d20Tavern - ECPv6.15.20//NONSGML v1.0//EN
CALSCALE:GREGORIAN
METHOD:PUBLISH
X-WR-CALNAME:d20Tavern
X-ORIGINAL-URL:https://d20tavern.com
X-WR-CALDESC:Events for d20Tavern
REFRESH-INTERVAL;VALUE=DURATION:PT1H
X-Robots-Tag:noindex
X-PUBLISHED-TTL:PT1H
BEGIN:VTIMEZONE
TZID:America/Denver
BEGIN:DAYLIGHT
TZOFFSETFROM:-0700
TZOFFSETTO:-0600
TZNAME:MDT
DTSTART:20250309T090000
END:DAYLIGHT
BEGIN:STANDARD
TZOFFSETFROM:-0600
TZOFFSETTO:-0700
TZNAME:MST
DTSTART:20251102T080000
END:STANDARD
BEGIN:DAYLIGHT
TZOFFSETFROM:-0700
TZOFFSETTO:-0600
TZNAME:MDT
DTSTART:20260308T090000
END:DAYLIGHT
BEGIN:STANDARD
TZOFFSETFROM:-0600
TZOFFSETTO:-0700
TZNAME:MST
DTSTART:20261101T080000
END:STANDARD
BEGIN:DAYLIGHT
TZOFFSETFROM:-0700
TZOFFSETTO:-0600
TZNAME:MDT
DTSTART:20270314T090000
END:DAYLIGHT
BEGIN:STANDARD
TZOFFSETFROM:-0600
TZOFFSETTO:-0700
TZNAME:MST
DTSTART:20271107T080000
END:STANDARD
END:VTIMEZONE
BEGIN:VEVENT
DTSTART;TZID=America/Denver:20260309T180000
DTEND;TZID=America/Denver:20260309T220000
DTSTAMP:20260423T155151
CREATED:20260227T175625Z
LAST-MODIFIED:20260227T175625Z
UID:16625-1773079200-1773093600@d20tavern.com
SUMMARY:Motley Monday | Goblin Prom
DESCRIPTION:With House GM Chase. *This game contains mature content. For ages 18 and up. \nIT’S PROM NIGHT \nYou and a group of teenage misfits are going to show the world that prom is stupid and fake and you didn’t even want to go anyway so who cares that no one asked you to be their date. SO LAY OFF!!! \nTwo things: \n\nYou and your friends have an elaborate plan to steal the prom queen’s crown and sabotage prom.\nYou are an ACTUAL GOBLIN.\n\nImagine your favorite high school movie like Pretty In Pink\, The Breakfast Club\, Mean Girls\, Angus\, Napoleon Dynamite\, She’s All That\, 10 Things I Hate About You\, or Clueless…then add GOBLINS. \n  \n 
URL:https://d20tavern.com/events/motley-monday-goblin-prom/
LOCATION:d20 Tavern
CATEGORIES:Motley Monday,One Shot,RPG,Spooky
ATTACH;FMTTYPE=image/jpeg:https://d20tavern.com/wp-content/uploads/2025/09/goblinprom.jpg
END:VEVENT
END:VCALENDAR