BEGIN:VCALENDAR
VERSION:2.0
PRODID:-//d20Tavern - ECPv6.15.20//NONSGML v1.0//EN
CALSCALE:GREGORIAN
METHOD:PUBLISH
X-WR-CALNAME:d20Tavern
X-ORIGINAL-URL:https://d20tavern.com
X-WR-CALDESC:Events for d20Tavern
REFRESH-INTERVAL;VALUE=DURATION:PT1H
X-Robots-Tag:noindex
X-PUBLISHED-TTL:PT1H
BEGIN:VTIMEZONE
TZID:America/Denver
BEGIN:DAYLIGHT
TZOFFSETFROM:-0700
TZOFFSETTO:-0600
TZNAME:MDT
DTSTART:20250309T090000
END:DAYLIGHT
BEGIN:STANDARD
TZOFFSETFROM:-0600
TZOFFSETTO:-0700
TZNAME:MST
DTSTART:20251102T080000
END:STANDARD
BEGIN:DAYLIGHT
TZOFFSETFROM:-0700
TZOFFSETTO:-0600
TZNAME:MDT
DTSTART:20260308T090000
END:DAYLIGHT
BEGIN:STANDARD
TZOFFSETFROM:-0600
TZOFFSETTO:-0700
TZNAME:MST
DTSTART:20261101T080000
END:STANDARD
BEGIN:DAYLIGHT
TZOFFSETFROM:-0700
TZOFFSETTO:-0600
TZNAME:MDT
DTSTART:20270314T090000
END:DAYLIGHT
BEGIN:STANDARD
TZOFFSETFROM:-0600
TZOFFSETTO:-0700
TZNAME:MST
DTSTART:20271107T080000
END:STANDARD
END:VTIMEZONE
BEGIN:VEVENT
DTSTART;TZID=America/Denver:20260216T180000
DTEND;TZID=America/Denver:20260216T220000
DTSTAMP:20260423T174332
CREATED:20260205T000702Z
LAST-MODIFIED:20260205T000702Z
UID:16580-1771264800-1771279200@d20tavern.com
SUMMARY:Motley Monday: Spire\, The City Must Fall
DESCRIPTION:Welcome to Spire: The City Must Fall. In this collaborative\, narrative-driven RPG\, you play as a drow member of the Ministry of Our Hidden Mistress—a paramilitary cult sworn to reclaim the mile-high city of Destera from its cruel high elf oppressors. Spire is a complex metropolis of a thousand gods\, twisting passages and structures\, built and rebuilt atop itself. Your mission is to subvert the ruling empire through blood and sacrifice\, all while keeping your identity secret from even your own family. No prior experience with the game is required\, as we will build the world and story together as a group. With House GM Kenneth. *This session contains mature content. Ages 18 and up.
URL:https://d20tavern.com/events/motley-monday-spire-the-city-must-fall/
LOCATION:d20 Tavern
CATEGORIES:Motley Monday,One Shot,RPG
ATTACH;FMTTYPE=image/jpeg:https://d20tavern.com/wp-content/uploads/2026/02/spire-calendar.jpg
END:VEVENT
END:VCALENDAR