BEGIN:VCALENDAR
VERSION:2.0
PRODID:-//d20Tavern - ECPv6.15.20//NONSGML v1.0//EN
CALSCALE:GREGORIAN
METHOD:PUBLISH
X-WR-CALNAME:d20Tavern
X-ORIGINAL-URL:https://d20tavern.com
X-WR-CALDESC:Events for d20Tavern
REFRESH-INTERVAL;VALUE=DURATION:PT1H
X-Robots-Tag:noindex
X-PUBLISHED-TTL:PT1H
BEGIN:VTIMEZONE
TZID:America/Denver
BEGIN:DAYLIGHT
TZOFFSETFROM:-0700
TZOFFSETTO:-0600
TZNAME:MDT
DTSTART:20250309T090000
END:DAYLIGHT
BEGIN:STANDARD
TZOFFSETFROM:-0600
TZOFFSETTO:-0700
TZNAME:MST
DTSTART:20251102T080000
END:STANDARD
BEGIN:DAYLIGHT
TZOFFSETFROM:-0700
TZOFFSETTO:-0600
TZNAME:MDT
DTSTART:20260308T090000
END:DAYLIGHT
BEGIN:STANDARD
TZOFFSETFROM:-0600
TZOFFSETTO:-0700
TZNAME:MST
DTSTART:20261101T080000
END:STANDARD
BEGIN:DAYLIGHT
TZOFFSETFROM:-0700
TZOFFSETTO:-0600
TZNAME:MDT
DTSTART:20270314T090000
END:DAYLIGHT
BEGIN:STANDARD
TZOFFSETFROM:-0600
TZOFFSETTO:-0700
TZNAME:MST
DTSTART:20271107T080000
END:STANDARD
END:VTIMEZONE
BEGIN:VEVENT
DTSTART;TZID=America/Denver:20260423T190000
DTEND;TZID=America/Denver:20260423T220000
DTSTAMP:20260423T141027
CREATED:20260329T234950Z
LAST-MODIFIED:20260329T234950Z
UID:16861-1776970800-1776981600@d20tavern.com
SUMMARY:Looking For Players (LFP)
DESCRIPTION:Looking For Players Thursday! Join us Thursday starting at 7pm for an open instruction table featuring a different game every week. \n 
URL:https://d20tavern.com/events/looking-for-players-lfp-16/
LOCATION:d20 Tavern
CATEGORIES:Board Games,Halloween,LFP,Looking For Players
ATTACH;FMTTYPE=image/jpeg:https://d20tavern.com/wp-content/uploads/2024/11/lfp-website-calendar-purple.jpg
END:VEVENT
BEGIN:VEVENT
DTSTART;TZID=America/Denver:20260430T190000
DTEND;TZID=America/Denver:20260430T220000
DTSTAMP:20260423T141027
CREATED:20260329T234727Z
LAST-MODIFIED:20260329T234727Z
UID:16847-1777575600-1777586400@d20tavern.com
SUMMARY:Looking For Players (LFP)
DESCRIPTION:Looking For Players Thursday! Join us Thursday starting at 7pm for an open instruction table featuring a different game every week. \n 
URL:https://d20tavern.com/events/looking-for-players-lfp-15/
LOCATION:d20 Tavern
CATEGORIES:Board Games,Halloween,LFP,Looking For Players
ATTACH;FMTTYPE=image/jpeg:https://d20tavern.com/wp-content/uploads/2024/11/lfp-website-calendar-purple.jpg
END:VEVENT
END:VCALENDAR