BEGIN:VCALENDAR
VERSION:2.0
PRODID:-//d20Tavern - ECPv6.15.20//NONSGML v1.0//EN
CALSCALE:GREGORIAN
METHOD:PUBLISH
X-ORIGINAL-URL:https://d20tavern.com
X-WR-CALDESC:Events for d20Tavern
REFRESH-INTERVAL;VALUE=DURATION:PT1H
X-Robots-Tag:noindex
X-PUBLISHED-TTL:PT1H
BEGIN:VTIMEZONE
TZID:America/Denver
BEGIN:DAYLIGHT
TZOFFSETFROM:-0700
TZOFFSETTO:-0600
TZNAME:MDT
DTSTART:20250309T090000
END:DAYLIGHT
BEGIN:STANDARD
TZOFFSETFROM:-0600
TZOFFSETTO:-0700
TZNAME:MST
DTSTART:20251102T080000
END:STANDARD
BEGIN:DAYLIGHT
TZOFFSETFROM:-0700
TZOFFSETTO:-0600
TZNAME:MDT
DTSTART:20260308T090000
END:DAYLIGHT
BEGIN:STANDARD
TZOFFSETFROM:-0600
TZOFFSETTO:-0700
TZNAME:MST
DTSTART:20261101T080000
END:STANDARD
BEGIN:DAYLIGHT
TZOFFSETFROM:-0700
TZOFFSETTO:-0600
TZNAME:MDT
DTSTART:20270314T090000
END:DAYLIGHT
BEGIN:STANDARD
TZOFFSETFROM:-0600
TZOFFSETTO:-0700
TZNAME:MST
DTSTART:20271107T080000
END:STANDARD
END:VTIMEZONE
BEGIN:VEVENT
DTSTART;TZID=America/Denver:20260314T180000
DTEND;TZID=America/Denver:20260314T233000
DTSTAMP:20260423T174420
CREATED:20260224T172546Z
LAST-MODIFIED:20260224T172547Z
UID:16605-1773511200-1773531000@d20tavern.com
SUMMARY:March BBEG Dungeon Raid D&D
DESCRIPTION:The Adventurers Collective BBEG Raid is coming! Join us for this 6 hour mega D&D event. Three dungeon masters\, three rooms\, three simultaneous sessions for the culmination of the d20 Adventurers Collective season! Get your tickets now!\nFight bugs!Stop a runaway train!Defeat the BBEG\, Piton!Save the city!
URL:https://d20tavern.com/events/march-bbeg-dungeon-raid-dd/
LOCATION:d20 Tavern
CATEGORIES:D&D,Event,West Marches
ATTACH;FMTTYPE=image/jpeg:https://d20tavern.com/wp-content/uploads/2026/02/2026-raid-calendar.jpg
END:VEVENT
END:VCALENDAR