BEGIN:VCALENDAR
VERSION:2.0
PRODID:-//d20Tavern - ECPv6.15.20//NONSGML v1.0//EN
CALSCALE:GREGORIAN
METHOD:PUBLISH
X-ORIGINAL-URL:https://d20tavern.com
X-WR-CALDESC:Events for d20Tavern
REFRESH-INTERVAL;VALUE=DURATION:PT1H
X-Robots-Tag:noindex
X-PUBLISHED-TTL:PT1H
BEGIN:VTIMEZONE
TZID:America/Denver
BEGIN:DAYLIGHT
TZOFFSETFROM:-0700
TZOFFSETTO:-0600
TZNAME:MDT
DTSTART:20250309T090000
END:DAYLIGHT
BEGIN:STANDARD
TZOFFSETFROM:-0600
TZOFFSETTO:-0700
TZNAME:MST
DTSTART:20251102T080000
END:STANDARD
BEGIN:DAYLIGHT
TZOFFSETFROM:-0700
TZOFFSETTO:-0600
TZNAME:MDT
DTSTART:20260308T090000
END:DAYLIGHT
BEGIN:STANDARD
TZOFFSETFROM:-0600
TZOFFSETTO:-0700
TZNAME:MST
DTSTART:20261101T080000
END:STANDARD
BEGIN:DAYLIGHT
TZOFFSETFROM:-0700
TZOFFSETTO:-0600
TZNAME:MDT
DTSTART:20270314T090000
END:DAYLIGHT
BEGIN:STANDARD
TZOFFSETFROM:-0600
TZOFFSETTO:-0700
TZNAME:MST
DTSTART:20271107T080000
END:STANDARD
END:VTIMEZONE
BEGIN:VEVENT
DTSTART;TZID=America/Denver:20260205T190000
DTEND;TZID=America/Denver:20260205T230000
DTSTAMP:20260423T154715
CREATED:20260128T171901Z
LAST-MODIFIED:20260128T171901Z
UID:16554-1770318000-1770332400@d20tavern.com
SUMMARY:d20 AC
DESCRIPTION:Now two session times to choose from!\n7pm-11 & 7:15-11:15\n  \nJoin us every Thursday for an epic Dungeons and Dragons adventure! Whether you’re a seasoned player or new to the game\, our drop-in style campaign promises exciting quests\, thrilling battles\, and unforgettable moments. Don’t miss out on the chance to embark on this d20 adventure – book your spot now!
URL:https://d20tavern.com/events/d20-ac-11/
LOCATION:d20 Tavern
CATEGORIES:D&D,RPG,West Marches
ATTACH;FMTTYPE=image/png:https://d20tavern.com/wp-content/uploads/2025/01/d20-AC-website.png
END:VEVENT
BEGIN:VEVENT
DTSTART;TZID=America/Denver:20260207T130000
DTEND;TZID=America/Denver:20260207T170000
DTSTAMP:20260423T154715
CREATED:20260128T164949Z
LAST-MODIFIED:20260128T164949Z
UID:16470-1770469200-1770483600@d20tavern.com
SUMMARY:d20 AC Saturday
DESCRIPTION:Join us every Saturday for an epic Dungeons and Dragons adventure! Whether you’re a seasoned player or new to the game\, our drop-in style campaign promises exciting quests\, thrilling battles\, and unforgettable moments. Don’t miss out on the chance to embark on this d20 adventure – book your spot now!
URL:https://d20tavern.com/events/d20-ac-saturday-13/
LOCATION:d20 Tavern
CATEGORIES:D&D,RPG,Weekend,West Marches
ATTACH;FMTTYPE=image/png:https://d20tavern.com/wp-content/uploads/2025/01/d20-AC-website.png
END:VEVENT
BEGIN:VEVENT
DTSTART;TZID=America/Denver:20260208T120000
DTEND;TZID=America/Denver:20260208T180000
DTSTAMP:20260423T154715
CREATED:20260204T234602Z
LAST-MODIFIED:20260204T234631Z
UID:16574-1770552000-1770573600@d20tavern.com
SUMMARY:Valentine RPG Market
DESCRIPTION:Come out to d20 Tavern’s Valentine RPG Market and find a special gift for your Valentine! \nFeaturing a variety of RPG items and accessories\, including apparel\, art\, dice\, jewelry\, and much more!
URL:https://d20tavern.com/events/valentine-rpg-market/
LOCATION:d20 Tavern
CATEGORIES:Community Events,D&D,Market,Weekend
END:VEVENT
BEGIN:VEVENT
DTSTART;TZID=America/Denver:20260212T190000
DTEND;TZID=America/Denver:20260212T230000
DTSTAMP:20260423T154715
CREATED:20260128T171842Z
LAST-MODIFIED:20260128T171842Z
UID:16545-1770922800-1770937200@d20tavern.com
SUMMARY:d20 AC
DESCRIPTION:Now two session times to choose from!\n7pm-11 & 7:15-11:15\n  \nJoin us every Thursday for an epic Dungeons and Dragons adventure! Whether you’re a seasoned player or new to the game\, our drop-in style campaign promises exciting quests\, thrilling battles\, and unforgettable moments. Don’t miss out on the chance to embark on this d20 adventure – book your spot now!
URL:https://d20tavern.com/events/d20-ac-10/
LOCATION:d20 Tavern
CATEGORIES:D&D,RPG,West Marches
ATTACH;FMTTYPE=image/png:https://d20tavern.com/wp-content/uploads/2025/01/d20-AC-website.png
END:VEVENT
BEGIN:VEVENT
DTSTART;TZID=America/Denver:20260214T130000
DTEND;TZID=America/Denver:20260214T170000
DTSTAMP:20260423T154715
CREATED:20260128T165010Z
LAST-MODIFIED:20260128T165010Z
UID:16469-1771074000-1771088400@d20tavern.com
SUMMARY:d20 AC Saturday
DESCRIPTION:Join us every Saturday for an epic Dungeons and Dragons adventure! Whether you’re a seasoned player or new to the game\, our drop-in style campaign promises exciting quests\, thrilling battles\, and unforgettable moments. Don’t miss out on the chance to embark on this d20 adventure – book your spot now!
URL:https://d20tavern.com/events/d20-ac-saturday-14/
LOCATION:d20 Tavern
CATEGORIES:D&D,RPG,Weekend,West Marches
ATTACH;FMTTYPE=image/png:https://d20tavern.com/wp-content/uploads/2025/01/d20-AC-website.png
END:VEVENT
BEGIN:VEVENT
DTSTART;TZID=America/Denver:20260219T190000
DTEND;TZID=America/Denver:20260219T230000
DTSTAMP:20260423T154715
CREATED:20260128T171254Z
LAST-MODIFIED:20260128T171254Z
UID:16536-1771527600-1771542000@d20tavern.com
SUMMARY:d20 AC
DESCRIPTION:Now two session times to choose from!\n7pm-11 & 7:15-11:15\n  \nJoin us every Thursday for an epic Dungeons and Dragons adventure! Whether you’re a seasoned player or new to the game\, our drop-in style campaign promises exciting quests\, thrilling battles\, and unforgettable moments. Don’t miss out on the chance to embark on this d20 adventure – book your spot now!
URL:https://d20tavern.com/events/d20-ac-9/
LOCATION:d20 Tavern
CATEGORIES:D&D,RPG,West Marches
ATTACH;FMTTYPE=image/png:https://d20tavern.com/wp-content/uploads/2025/01/d20-AC-website.png
END:VEVENT
BEGIN:VEVENT
DTSTART;TZID=America/Denver:20260221T130000
DTEND;TZID=America/Denver:20260221T170000
DTSTAMP:20260423T154715
CREATED:20260128T165029Z
LAST-MODIFIED:20260128T165029Z
UID:16468-1771678800-1771693200@d20tavern.com
SUMMARY:d20 AC Saturday
DESCRIPTION:Join us every Saturday for an epic Dungeons and Dragons adventure! Whether you’re a seasoned player or new to the game\, our drop-in style campaign promises exciting quests\, thrilling battles\, and unforgettable moments. Don’t miss out on the chance to embark on this d20 adventure – book your spot now!
URL:https://d20tavern.com/events/d20-ac-saturday-15/
LOCATION:d20 Tavern
CATEGORIES:D&D,RPG,Weekend,West Marches
ATTACH;FMTTYPE=image/png:https://d20tavern.com/wp-content/uploads/2025/01/d20-AC-website.png
END:VEVENT
BEGIN:VEVENT
DTSTART;TZID=America/Denver:20260226T190000
DTEND;TZID=America/Denver:20260226T230000
DTSTAMP:20260423T154715
CREATED:20260128T165725Z
LAST-MODIFIED:20260128T165725Z
UID:16493-1772132400-1772146800@d20tavern.com
SUMMARY:d20 AC
DESCRIPTION:Now two session times to choose from!\n7pm-11 & 7:15-11:15\n  \nJoin us every Thursday for an epic Dungeons and Dragons adventure! Whether you’re a seasoned player or new to the game\, our drop-in style campaign promises exciting quests\, thrilling battles\, and unforgettable moments. Don’t miss out on the chance to embark on this d20 adventure – book your spot now!
URL:https://d20tavern.com/events/d20-ac-7/
LOCATION:d20 Tavern
CATEGORIES:D&D,RPG,West Marches
ATTACH;FMTTYPE=image/png:https://d20tavern.com/wp-content/uploads/2025/01/d20-AC-website.png
END:VEVENT
BEGIN:VEVENT
DTSTART;TZID=America/Denver:20260228T130000
DTEND;TZID=America/Denver:20260228T170000
DTSTAMP:20260423T154715
CREATED:20260128T165049Z
LAST-MODIFIED:20260128T165049Z
UID:16467-1772283600-1772298000@d20tavern.com
SUMMARY:d20 AC Saturday
DESCRIPTION:Join us every Saturday for an epic Dungeons and Dragons adventure! Whether you’re a seasoned player or new to the game\, our drop-in style campaign promises exciting quests\, thrilling battles\, and unforgettable moments. Don’t miss out on the chance to embark on this d20 adventure – book your spot now!
URL:https://d20tavern.com/events/d20-ac-saturday-16/
LOCATION:d20 Tavern
CATEGORIES:D&D,RPG,Weekend,West Marches
ATTACH;FMTTYPE=image/png:https://d20tavern.com/wp-content/uploads/2025/01/d20-AC-website.png
END:VEVENT
END:VCALENDAR