BEGIN:VCALENDAR
VERSION:2.0
PRODID:-//d20Tavern - ECPv6.15.20//NONSGML v1.0//EN
CALSCALE:GREGORIAN
METHOD:PUBLISH
X-WR-CALNAME:d20Tavern
X-ORIGINAL-URL:https://d20tavern.com
X-WR-CALDESC:Events for d20Tavern
REFRESH-INTERVAL;VALUE=DURATION:PT1H
X-Robots-Tag:noindex
X-PUBLISHED-TTL:PT1H
BEGIN:VTIMEZONE
TZID:America/Denver
BEGIN:DAYLIGHT
TZOFFSETFROM:-0700
TZOFFSETTO:-0600
TZNAME:MDT
DTSTART:20250309T090000
END:DAYLIGHT
BEGIN:STANDARD
TZOFFSETFROM:-0600
TZOFFSETTO:-0700
TZNAME:MST
DTSTART:20251102T080000
END:STANDARD
BEGIN:DAYLIGHT
TZOFFSETFROM:-0700
TZOFFSETTO:-0600
TZNAME:MDT
DTSTART:20260308T090000
END:DAYLIGHT
BEGIN:STANDARD
TZOFFSETFROM:-0600
TZOFFSETTO:-0700
TZNAME:MST
DTSTART:20261101T080000
END:STANDARD
BEGIN:DAYLIGHT
TZOFFSETFROM:-0700
TZOFFSETTO:-0600
TZNAME:MDT
DTSTART:20270314T090000
END:DAYLIGHT
BEGIN:STANDARD
TZOFFSETFROM:-0600
TZOFFSETTO:-0700
TZNAME:MST
DTSTART:20271107T080000
END:STANDARD
END:VTIMEZONE
BEGIN:VEVENT
DTSTART;TZID=America/Denver:20260123T183000
DTEND;TZID=America/Denver:20260123T235900
DTSTAMP:20260423T174051
CREATED:20251229T164124Z
LAST-MODIFIED:20251229T164124Z
UID:16440-1769193000-1769212740@d20tavern.com
SUMMARY:Denton Chess Club
DESCRIPTION:The Denton Chess Club meets at d20 Tavern every Friday at 6:30!
URL:https://d20tavern.com/events/denton-chess-club-20/
LOCATION:d20 Tavern
CATEGORIES:Community Events,Weekend
ATTACH;FMTTYPE=image/jpeg:https://d20tavern.com/wp-content/uploads/2025/01/chess-club2.jpg
END:VEVENT
BEGIN:VEVENT
DTSTART;TZID=America/Denver:20260126T140000
DTEND;TZID=America/Denver:20260126T220000
DTSTAMP:20260423T174051
CREATED:20251229T153802Z
LAST-MODIFIED:20251229T153802Z
UID:16367-1769436000-1769464800@d20tavern.com
SUMMARY:TCG Mondays
DESCRIPTION:Bring your deck\, get a discount!\nTCG Mondays! Bring your deck for some building and trading and get $2 off any 16 oz draft.
URL:https://d20tavern.com/events/tcg-mondays-4/
CATEGORIES:Community Events,Drink Special,TCG,Trading Cards
ATTACH;FMTTYPE=image/jpeg:https://d20tavern.com/wp-content/uploads/2025/01/tcg-website-calendar.jpg
END:VEVENT
BEGIN:VEVENT
DTSTART;TZID=America/Denver:20260127T173000
DTEND;TZID=America/Denver:20260127T220000
DTSTAMP:20260423T174051
CREATED:20251229T162431Z
LAST-MODIFIED:20251229T162445Z
UID:16386-1769535000-1769551200@d20tavern.com
SUMMARY:Denton Chess Club
DESCRIPTION:The Denton Chess Club meets at d20 Tavern every Tuesday at 5:30!
URL:https://d20tavern.com/events/denton-chess-club-4/
LOCATION:d20 Tavern
CATEGORIES:Community Events
ATTACH;FMTTYPE=image/jpeg:https://d20tavern.com/wp-content/uploads/2025/01/chess-club2.jpg
END:VEVENT
BEGIN:VEVENT
DTSTART;TZID=America/Denver:20260127T180000
DTEND;TZID=America/Denver:20260127T220000
DTSTAMP:20260423T174051
CREATED:20251229T161958Z
LAST-MODIFIED:20251229T161958Z
UID:16378-1769536800-1769551200@d20tavern.com
SUMMARY:Denton Board Gaming
DESCRIPTION:Denton Board Gaming Group meets at d20 Tavern every Tuesday of the month.  Come out and meet some new folks and play some board games!
URL:https://d20tavern.com/events/denton-board-gaming-2/
LOCATION:d20 Tavern
CATEGORIES:Board Games,Community Events
ATTACH;FMTTYPE=image/jpeg:https://d20tavern.com/wp-content/uploads/2025/03/denton-board-gaming-image.jpg
END:VEVENT
BEGIN:VEVENT
DTSTART;TZID=America/Denver:20260128T170000
DTEND;TZID=America/Denver:20260128T220000
DTSTAMP:20260423T174051
CREATED:20251229T162722Z
LAST-MODIFIED:20251229T162722Z
UID:16394-1769619600-1769637600@d20tavern.com
SUMMARY:College Night
DESCRIPTION:Wednesday is College Night! Bring your current student or staff college ID and get half off game pass all day.
URL:https://d20tavern.com/events/college-night-2/
CATEGORIES:College Night,Community Events
ATTACH;FMTTYPE=image/jpeg:https://d20tavern.com/wp-content/uploads/2025/01/college-night-website.jpg
END:VEVENT
BEGIN:VEVENT
DTSTART;TZID=America/Denver:20260130T183000
DTEND;TZID=America/Denver:20260130T235900
DTSTAMP:20260423T174051
CREATED:20251229T164056Z
LAST-MODIFIED:20251229T164056Z
UID:16436-1769797800-1769817540@d20tavern.com
SUMMARY:Denton Chess Club
DESCRIPTION:The Denton Chess Club meets at d20 Tavern every Friday at 6:30!
URL:https://d20tavern.com/events/denton-chess-club-17/
LOCATION:d20 Tavern
CATEGORIES:Community Events,Weekend
ATTACH;FMTTYPE=image/jpeg:https://d20tavern.com/wp-content/uploads/2025/01/chess-club2.jpg
END:VEVENT
END:VCALENDAR