BEGIN:VCALENDAR
VERSION:2.0
PRODID:-//d20Tavern - ECPv6.15.20//NONSGML v1.0//EN
CALSCALE:GREGORIAN
METHOD:PUBLISH
X-WR-CALNAME:d20Tavern
X-ORIGINAL-URL:https://d20tavern.com
X-WR-CALDESC:Events for d20Tavern
REFRESH-INTERVAL;VALUE=DURATION:PT1H
X-Robots-Tag:noindex
X-PUBLISHED-TTL:PT1H
BEGIN:VTIMEZONE
TZID:America/Denver
BEGIN:DAYLIGHT
TZOFFSETFROM:-0700
TZOFFSETTO:-0600
TZNAME:MDT
DTSTART:20250309T090000
END:DAYLIGHT
BEGIN:STANDARD
TZOFFSETFROM:-0600
TZOFFSETTO:-0700
TZNAME:MST
DTSTART:20251102T080000
END:STANDARD
BEGIN:DAYLIGHT
TZOFFSETFROM:-0700
TZOFFSETTO:-0600
TZNAME:MDT
DTSTART:20260308T090000
END:DAYLIGHT
BEGIN:STANDARD
TZOFFSETFROM:-0600
TZOFFSETTO:-0700
TZNAME:MST
DTSTART:20261101T080000
END:STANDARD
BEGIN:DAYLIGHT
TZOFFSETFROM:-0700
TZOFFSETTO:-0600
TZNAME:MDT
DTSTART:20270314T090000
END:DAYLIGHT
BEGIN:STANDARD
TZOFFSETFROM:-0600
TZOFFSETTO:-0700
TZNAME:MST
DTSTART:20271107T080000
END:STANDARD
END:VTIMEZONE
BEGIN:VEVENT
DTSTART;TZID=America/Denver:20260414T173000
DTEND;TZID=America/Denver:20260414T220000
DTSTAMP:20260423T102528
CREATED:20260329T234004Z
LAST-MODIFIED:20260329T234004Z
UID:16815-1776187800-1776204000@d20tavern.com
SUMMARY:Denton Chess Club
DESCRIPTION:The Denton Chess Club meets at d20 Tavern every Tuesday at 5:30!
URL:https://d20tavern.com/events/denton-chess-club-27/
LOCATION:d20 Tavern
CATEGORIES:Community Events
ATTACH;FMTTYPE=image/jpeg:https://d20tavern.com/wp-content/uploads/2025/01/chess-club2.jpg
END:VEVENT
BEGIN:VEVENT
DTSTART;TZID=America/Denver:20260414T180000
DTEND;TZID=America/Denver:20260414T220000
DTSTAMP:20260423T102528
CREATED:20260329T233915Z
LAST-MODIFIED:20260329T233915Z
UID:16811-1776189600-1776204000@d20tavern.com
SUMMARY:Denton Board Gaming
DESCRIPTION:Denton Board Gaming Group meets at d20 Tavern every Tuesday of the month.  Come out and meet some new folks and play some board games!
URL:https://d20tavern.com/events/denton-board-gaming-15/
LOCATION:d20 Tavern
CATEGORIES:Board Games,Community Events
ATTACH;FMTTYPE=image/jpeg:https://d20tavern.com/wp-content/uploads/2025/03/denton-board-gaming-image.jpg
END:VEVENT
END:VCALENDAR